BEGIN:VCALENDAR
VERSION:2.0
PRODID:-//Brahma Kumaris - Los Angeles - ECPv6.15.20//NONSGML v1.0//EN
CALSCALE:GREGORIAN
METHOD:PUBLISH
X-WR-CALNAME:Brahma Kumaris - Los Angeles
X-ORIGINAL-URL:https://bklosangeles.org
X-WR-CALDESC:Events for Brahma Kumaris - Los Angeles
REFRESH-INTERVAL;VALUE=DURATION:PT1H
X-Robots-Tag:noindex
X-PUBLISHED-TTL:PT1H
BEGIN:VTIMEZONE
TZID:America/Los_Angeles
BEGIN:DAYLIGHT
TZOFFSETFROM:-0800
TZOFFSETTO:-0700
TZNAME:PDT
DTSTART:20250309T100000
END:DAYLIGHT
BEGIN:STANDARD
TZOFFSETFROM:-0700
TZOFFSETTO:-0800
TZNAME:PST
DTSTART:20251102T090000
END:STANDARD
BEGIN:DAYLIGHT
TZOFFSETFROM:-0800
TZOFFSETTO:-0700
TZNAME:PDT
DTSTART:20260308T100000
END:DAYLIGHT
BEGIN:STANDARD
TZOFFSETFROM:-0700
TZOFFSETTO:-0800
TZNAME:PST
DTSTART:20261101T090000
END:STANDARD
BEGIN:DAYLIGHT
TZOFFSETFROM:-0800
TZOFFSETTO:-0700
TZNAME:PDT
DTSTART:20270314T100000
END:DAYLIGHT
BEGIN:STANDARD
TZOFFSETFROM:-0700
TZOFFSETTO:-0800
TZNAME:PST
DTSTART:20271107T090000
END:STANDARD
END:VTIMEZONE
BEGIN:VEVENT
DTSTART;TZID=America/Los_Angeles:20260425T093000
DTEND;TZID=America/Los_Angeles:20260425T123000
DTSTAMP:20260425T062923
CREATED:20260331T180533Z
LAST-MODIFIED:20260406T013536Z
UID:10504-1777109400-1777120200@bklosangeles.org
SUMMARY:In-Person Los Angeles: Rx - Rest\, Refresh\, Renew - April 2026
DESCRIPTION:In-Person Open HouseFree of ChargeAll are Welcome What to expect:* Games for all ages* Guided meditation* Peaceful atmosphere* Light refreshmentsCome as you are.  Leave refreshed and empowered. Sunday\, May 31\, 202610:00 AM – 12:00 PMBrahma Kumaris Meditation Place9393 Activity Road\, Suite F/GSan Diego\, CA 92126 Please RSVP. All events are offered in the spirit of service by the Brahma Kumaris\, a nonprofit organization. Donations are gratefully accepted.
URL:https://bklosangeles.org/event/ip-la-rx-april-2026/
LOCATION:Los Angeles Center – In-Person
CATEGORIES:Los Angeles,Raja Yoga Meditation
ORGANIZER;CN="BK Los Angeles Team":MAILTO:losangeles@us.brahmakumaris.org
END:VEVENT
BEGIN:VEVENT
DTSTART;TZID=America/Los_Angeles:20260425T163000
DTEND;TZID=America/Los_Angeles:20260425T180000
DTSTAMP:20260425T062923
CREATED:20260327T070942Z
LAST-MODIFIED:20260327T071403Z
UID:10490-1777134600-1777140000@bklosangeles.org
SUMMARY:In-Person: Winning Over Laziness in San Diego\, April 25\, 2026
DESCRIPTION:In-Person Open HouseFree of ChargeAll are Welcome What to expect:* Games for all ages* Guided meditation* Peaceful atmosphere* Light refreshmentsCome as you are.  Leave refreshed and empowered. Sunday\, May 31\, 202610:00 AM – 12:00 PMBrahma Kumaris Meditation Place9393 Activity Road\, Suite F/GSan Diego\, CA 92126 Please RSVP. All events are offered in the spirit of service by the Brahma Kumaris\, a nonprofit organization. Donations are gratefully accepted.
URL:https://bklosangeles.org/event/ip-sd-winning-laziness-apr-25-2026/
LOCATION:San Diego – In-Person
CATEGORIES:Raja Yoga Meditation,San Diego
ORGANIZER;CN="BK SD Team":MAILTO:bklasandiego@gmail.com
END:VEVENT
END:VCALENDAR