BEGIN:VCALENDAR
VERSION:2.0
PRODID:-//Brahma Kumaris - Los Angeles - ECPv6.15.20//NONSGML v1.0//EN
CALSCALE:GREGORIAN
METHOD:PUBLISH
X-WR-CALNAME:Brahma Kumaris - Los Angeles
X-ORIGINAL-URL:https://bklosangeles.org
X-WR-CALDESC:Events for Brahma Kumaris - Los Angeles
REFRESH-INTERVAL;VALUE=DURATION:PT1H
X-Robots-Tag:noindex
X-PUBLISHED-TTL:PT1H
BEGIN:VTIMEZONE
TZID:America/Los_Angeles
BEGIN:DAYLIGHT
TZOFFSETFROM:-0800
TZOFFSETTO:-0700
TZNAME:PDT
DTSTART:20240310T100000
END:DAYLIGHT
BEGIN:STANDARD
TZOFFSETFROM:-0700
TZOFFSETTO:-0800
TZNAME:PST
DTSTART:20241103T090000
END:STANDARD
BEGIN:DAYLIGHT
TZOFFSETFROM:-0800
TZOFFSETTO:-0700
TZNAME:PDT
DTSTART:20250309T100000
END:DAYLIGHT
BEGIN:STANDARD
TZOFFSETFROM:-0700
TZOFFSETTO:-0800
TZNAME:PST
DTSTART:20251102T090000
END:STANDARD
BEGIN:DAYLIGHT
TZOFFSETFROM:-0800
TZOFFSETTO:-0700
TZNAME:PDT
DTSTART:20260308T100000
END:DAYLIGHT
BEGIN:STANDARD
TZOFFSETFROM:-0700
TZOFFSETTO:-0800
TZNAME:PST
DTSTART:20261101T090000
END:STANDARD
END:VTIMEZONE
BEGIN:VEVENT
DTSTART;TZID=America/Los_Angeles:20250303T190000
DTEND;TZID=America/Los_Angeles:20250303T210000
DTSTAMP:20260423T040352
CREATED:20241015T010034Z
LAST-MODIFIED:20250303T063954Z
UID:8988-1741028400-1741035600@bklosangeles.org
SUMMARY:Online - San Diego: Meditación Raja Yoga Online en Español - Marzo 2025
DESCRIPTION:Nourish Your Body and Soul with YogaIn-Person Weekend Yoga WorkshopFree of ChargeAll are Welcome					\n						\n				\n						\n					\n		\n								\n					\n		\n				\n						\n							\n					\n			\n							\n						\n				\n								\n																										\n						\n				\n						\n					\n		\n								\n					\n		\n				\n						\n							\n					\n			\n							\n						\n				\n								\n				Join us for a rejuvenating yoga session designed to align your body and soul. Connect with your breath\, release tension\, and flow with intention.Please bring your yoga mat\, water bottle and towel.Saturday\, May 16\, 20269:00 – 10:00 AMBrahma Kumaris Meditation Place9393 Activity Road\, Suite F/GSan Diego\, CA 92126 Please RSVP as Limited space is Available. All events are offered in the spirit of service by the Brahma Kumaris\, a nonprofit organization. Donations are gratefully accepted.
URL:https://bklosangeles.org/event/online-sd-sry-marzo2025/
LOCATION:San Diego – On-Zoom
CATEGORIES:Raja Yoga Meditation,San Diego
ORGANIZER;CN="BK SD Team":MAILTO:bklasandiego@gmail.com
END:VEVENT
BEGIN:VEVENT
DTSTART;TZID=America/Los_Angeles:20250303T194500
DTEND;TZID=America/Los_Angeles:20250303T210000
DTSTAMP:20260423T040352
CREATED:20241014T210446Z
LAST-MODIFIED:20250303T063934Z
UID:8883-1741031100-1741035600@bklosangeles.org
SUMMARY:Online: Tamil தமிழ் ஆன்லைன் ராஜயோக தியானம் - மார்ச் March 2025
DESCRIPTION:Nourish Your Body and Soul with YogaIn-Person Weekend Yoga WorkshopFree of ChargeAll are Welcome					\n						\n				\n						\n					\n		\n								\n					\n		\n				\n						\n							\n					\n			\n							\n						\n				\n								\n																										\n						\n				\n						\n					\n		\n								\n					\n		\n				\n						\n							\n					\n			\n							\n						\n				\n								\n				Join us for a rejuvenating yoga session designed to align your body and soul. Connect with your breath\, release tension\, and flow with intention.Please bring your yoga mat\, water bottle and towel.Saturday\, May 16\, 20269:00 – 10:00 AMBrahma Kumaris Meditation Place9393 Activity Road\, Suite F/GSan Diego\, CA 92126 Please RSVP as Limited space is Available. All events are offered in the spirit of service by the Brahma Kumaris\, a nonprofit organization. Donations are gratefully accepted.
URL:https://bklosangeles.org/event/online-t-mar-2025/
LOCATION:General Zoom Room
CATEGORIES:Cerritos,Los Angeles,Raja Yoga Meditation,San Diego
ORGANIZER;CN="BK Los Angeles Team":MAILTO:losangeles@us.brahmakumaris.org
END:VEVENT
BEGIN:VEVENT
DTSTART;TZID=America/Los_Angeles:20250303T194500
DTEND;TZID=America/Los_Angeles:20250303T210000
DTSTAMP:20260423T040352
CREATED:20241015T002554Z
LAST-MODIFIED:20250303T063909Z
UID:8968-1741031100-1741035600@bklosangeles.org
SUMMARY:Online: Hindi हिन्दी ऑनलाइन राजयोग ध्यान - मार्च March 2025
DESCRIPTION:Nourish Your Body and Soul with YogaIn-Person Weekend Yoga WorkshopFree of ChargeAll are Welcome					\n						\n				\n						\n					\n		\n								\n					\n		\n				\n						\n							\n					\n			\n							\n						\n				\n								\n																										\n						\n				\n						\n					\n		\n								\n					\n		\n				\n						\n							\n					\n			\n							\n						\n				\n								\n				Join us for a rejuvenating yoga session designed to align your body and soul. Connect with your breath\, release tension\, and flow with intention.Please bring your yoga mat\, water bottle and towel.Saturday\, May 16\, 20269:00 – 10:00 AMBrahma Kumaris Meditation Place9393 Activity Road\, Suite F/GSan Diego\, CA 92126 Please RSVP as Limited space is Available. All events are offered in the spirit of service by the Brahma Kumaris\, a nonprofit organization. Donations are gratefully accepted.
URL:https://bklosangeles.org/event/online-hindi-%e0%a4%ae%e0%a4%be%e0%a4%b0%e0%a5%8d%e0%a4%9a2025/
LOCATION:General Zoom Room
CATEGORIES:Cerritos,Los Angeles,Raja Yoga Meditation,San Diego
ORGANIZER;CN="BK Los Angeles Team":MAILTO:losangeles@us.brahmakumaris.org
END:VEVENT
BEGIN:VEVENT
DTSTART;VALUE=DATE:20250308
DTEND;VALUE=DATE:20250309
DTSTAMP:20260423T040352
CREATED:20241223T201705Z
LAST-MODIFIED:20241224T064120Z
UID:9138-1741392000-1741478399@bklosangeles.org
SUMMARY:Daylight Savings Time - March 09\, 2025
DESCRIPTION:Nourish Your Body and Soul with YogaIn-Person Weekend Yoga WorkshopFree of ChargeAll are Welcome					\n						\n				\n						\n					\n		\n								\n					\n		\n				\n						\n							\n					\n			\n							\n						\n				\n								\n																										\n						\n				\n						\n					\n		\n								\n					\n		\n				\n						\n							\n					\n			\n							\n						\n				\n								\n				Join us for a rejuvenating yoga session designed to align your body and soul. Connect with your breath\, release tension\, and flow with intention.Please bring your yoga mat\, water bottle and towel.Saturday\, May 16\, 20269:00 – 10:00 AMBrahma Kumaris Meditation Place9393 Activity Road\, Suite F/GSan Diego\, CA 92126 Please RSVP as Limited space is Available. All events are offered in the spirit of service by the Brahma Kumaris\, a nonprofit organization. Donations are gratefully accepted.
URL:https://bklosangeles.org/event/daylight-savings-time-march-09-2025/
CATEGORIES:Cerritos,Irvine,Los Angeles,Phoenix, AZ,San Diego,Seal Beach
ORGANIZER;CN="BK Los Angeles Team":MAILTO:losangeles@us.brahmakumaris.org
END:VEVENT
BEGIN:VEVENT
DTSTART;TZID=America/Los_Angeles:20250308T194500
DTEND;TZID=America/Los_Angeles:20250308T210000
DTSTAMP:20260423T040352
CREATED:20241014T234027Z
LAST-MODIFIED:20250303T063827Z
UID:8941-1741463100-1741467600@bklosangeles.org
SUMMARY:Online: English Raja Yoga Meditation - March 2025
DESCRIPTION:Nourish Your Body and Soul with YogaIn-Person Weekend Yoga WorkshopFree of ChargeAll are Welcome					\n						\n				\n						\n					\n		\n								\n					\n		\n				\n						\n							\n					\n			\n							\n						\n				\n								\n																										\n						\n				\n						\n					\n		\n								\n					\n		\n				\n						\n							\n					\n			\n							\n						\n				\n								\n				Join us for a rejuvenating yoga session designed to align your body and soul. Connect with your breath\, release tension\, and flow with intention.Please bring your yoga mat\, water bottle and towel.Saturday\, May 16\, 20269:00 – 10:00 AMBrahma Kumaris Meditation Place9393 Activity Road\, Suite F/GSan Diego\, CA 92126 Please RSVP as Limited space is Available. All events are offered in the spirit of service by the Brahma Kumaris\, a nonprofit organization. Donations are gratefully accepted.
URL:https://bklosangeles.org/event/online-english-raja-yoga-meditation-march-2025/
LOCATION:General Zoom Room
CATEGORIES:Cerritos,Los Angeles,Raja Yoga Meditation,San Diego
ORGANIZER;CN="BK Los Angeles Team":MAILTO:losangeles@us.brahmakumaris.org
END:VEVENT
BEGIN:VEVENT
DTSTART;TZID=America/Los_Angeles:20250316T140000
DTEND;TZID=America/Los_Angeles:20250316T160000
DTSTAMP:20260423T040352
CREATED:20250210T223434Z
LAST-MODIFIED:20250303T063748Z
UID:9209-1742133600-1742140800@bklosangeles.org
SUMMARY:In-Person: Shiv Ratri - The Night of God's Desent in San Diego - March 2025
DESCRIPTION:Nourish Your Body and Soul with YogaIn-Person Weekend Yoga WorkshopFree of ChargeAll are Welcome					\n						\n				\n						\n					\n		\n								\n					\n		\n				\n						\n							\n					\n			\n							\n						\n				\n								\n																										\n						\n				\n						\n					\n		\n								\n					\n		\n				\n						\n							\n					\n			\n							\n						\n				\n								\n				Join us for a rejuvenating yoga session designed to align your body and soul. Connect with your breath\, release tension\, and flow with intention.Please bring your yoga mat\, water bottle and towel.Saturday\, May 16\, 20269:00 – 10:00 AMBrahma Kumaris Meditation Place9393 Activity Road\, Suite F/GSan Diego\, CA 92126 Please RSVP as Limited space is Available. All events are offered in the spirit of service by the Brahma Kumaris\, a nonprofit organization. Donations are gratefully accepted.
URL:https://bklosangeles.org/event/in-person-sd-shivratri-march-2025/
LOCATION:San Diego – In-Person
CATEGORIES:Featured Events,San Diego
ORGANIZER;CN="BK SD Team":MAILTO:bklasandiego@gmail.com
END:VEVENT
BEGIN:VEVENT
DTSTART;TZID=America/Los_Angeles:20250316T183000
DTEND;TZID=America/Los_Angeles:20250316T193000
DTSTAMP:20260423T040352
CREATED:20240804T043304Z
LAST-MODIFIED:20250303T063723Z
UID:8791-1742149800-1742153400@bklosangeles.org
SUMMARY:Online:  World Meditation Hour - March 2025
DESCRIPTION:Nourish Your Body and Soul with YogaIn-Person Weekend Yoga WorkshopFree of ChargeAll are Welcome					\n						\n				\n						\n					\n		\n								\n					\n		\n				\n						\n							\n					\n			\n							\n						\n				\n								\n																										\n						\n				\n						\n					\n		\n								\n					\n		\n				\n						\n							\n					\n			\n							\n						\n				\n								\n				Join us for a rejuvenating yoga session designed to align your body and soul. Connect with your breath\, release tension\, and flow with intention.Please bring your yoga mat\, water bottle and towel.Saturday\, May 16\, 20269:00 – 10:00 AMBrahma Kumaris Meditation Place9393 Activity Road\, Suite F/GSan Diego\, CA 92126 Please RSVP as Limited space is Available. All events are offered in the spirit of service by the Brahma Kumaris\, a nonprofit organization. Donations are gratefully accepted.
URL:https://bklosangeles.org/event/online-world-meditation-hour-mar-2025/
LOCATION:General Zoom Room
CATEGORIES:Cerritos,Los Angeles,San Diego,Zoom Room
ORGANIZER;CN="BK Los Angeles Team":MAILTO:losangeles@us.brahmakumaris.org
END:VEVENT
BEGIN:VEVENT
DTSTART;TZID=America/Los_Angeles:20250329T140000
DTEND;TZID=America/Los_Angeles:20250329T160000
DTSTAMP:20260423T040352
CREATED:20250315T052957Z
LAST-MODIFIED:20250317T042024Z
UID:9344-1743256800-1743264000@bklosangeles.org
SUMMARY:In-Person: Experiential Raja Yoga Meditation Part I - March 2025
DESCRIPTION:Nourish Your Body and Soul with YogaIn-Person Weekend Yoga WorkshopFree of ChargeAll are Welcome					\n						\n				\n						\n					\n		\n								\n					\n		\n				\n						\n							\n					\n			\n							\n						\n				\n								\n																										\n						\n				\n						\n					\n		\n								\n					\n		\n				\n						\n							\n					\n			\n							\n						\n				\n								\n				Join us for a rejuvenating yoga session designed to align your body and soul. Connect with your breath\, release tension\, and flow with intention.Please bring your yoga mat\, water bottle and towel.Saturday\, May 16\, 20269:00 – 10:00 AMBrahma Kumaris Meditation Place9393 Activity Road\, Suite F/GSan Diego\, CA 92126 Please RSVP as Limited space is Available. All events are offered in the spirit of service by the Brahma Kumaris\, a nonprofit organization. Donations are gratefully accepted.
URL:https://bklosangeles.org/event/in-person-sd-ry-march-2025/
LOCATION:San Diego – In-Person
CATEGORIES:San Diego
ORGANIZER;CN="BK SD Team":MAILTO:bklasandiego@gmail.com
END:VEVENT
END:VCALENDAR