BEGIN:VCALENDAR
VERSION:2.0
PRODID:-//Brahma Kumaris - Los Angeles - ECPv6.15.20//NONSGML v1.0//EN
CALSCALE:GREGORIAN
METHOD:PUBLISH
X-WR-CALNAME:Brahma Kumaris - Los Angeles
X-ORIGINAL-URL:https://bklosangeles.org
X-WR-CALDESC:Events for Brahma Kumaris - Los Angeles
REFRESH-INTERVAL;VALUE=DURATION:PT1H
X-Robots-Tag:noindex
X-PUBLISHED-TTL:PT1H
BEGIN:VTIMEZONE
TZID:America/Los_Angeles
BEGIN:DAYLIGHT
TZOFFSETFROM:-0800
TZOFFSETTO:-0700
TZNAME:PDT
DTSTART:20240310T100000
END:DAYLIGHT
BEGIN:STANDARD
TZOFFSETFROM:-0700
TZOFFSETTO:-0800
TZNAME:PST
DTSTART:20241103T090000
END:STANDARD
BEGIN:DAYLIGHT
TZOFFSETFROM:-0800
TZOFFSETTO:-0700
TZNAME:PDT
DTSTART:20250309T100000
END:DAYLIGHT
BEGIN:STANDARD
TZOFFSETFROM:-0700
TZOFFSETTO:-0800
TZNAME:PST
DTSTART:20251102T090000
END:STANDARD
BEGIN:DAYLIGHT
TZOFFSETFROM:-0800
TZOFFSETTO:-0700
TZNAME:PDT
DTSTART:20260308T100000
END:DAYLIGHT
BEGIN:STANDARD
TZOFFSETFROM:-0700
TZOFFSETTO:-0800
TZNAME:PST
DTSTART:20261101T090000
END:STANDARD
END:VTIMEZONE
BEGIN:VEVENT
DTSTART;TZID=America/Los_Angeles:20250407T190000
DTEND;TZID=America/Los_Angeles:20250407T210000
DTSTAMP:20260422T161423
CREATED:20241015T010359Z
LAST-MODIFIED:20250303T063629Z
UID:8991-1744052400-1744059600@bklosangeles.org
SUMMARY:Online - San Diego: Meditación Raja Yoga Online en Español - Abril 2025
DESCRIPTION:ஆன்லைன் ராஜ யோகா தியானம்அறிமுகப் பாடநெறி					\n						\n				\n						\n					\n		\n								\n					\n		\n				\n						\n							\n					\n			\n							\n						\n				\n								\n																										\n						\n				\n						\n					\n		\n								\n					\n		\n				\n						\n							\n					\n			\n							\n						\n				\n								\n				Week 1: June 01\, 03 and 05Week 2:June 08\, 10 and 12Week 3: June 15\, 17 and 1907:45 – 09:00 PM PDT (California Time)இந்த அறிமுக வகுப்பில் நாம் இராஜயோக தியானத்தின் மூலமாக மீண்டும் நமது ஆத்ம சக்தி\, அமைதி\, நல்லிணக்கத்தை அடையும் வழிகள் மற்றும் அனுபவங்களை அறியலாம். மேலும் ஆத்மாவின் இயல்புகளைத் தெரிந்து கொள்வதோடு\, நமது அன்றாட செயல்களும்\, தேர்வுகளும் ஆத்மாவின் முக்கிய அம்சங்களான மனம்\, புத்தி\, எண்ணம் ஆகிய மூன்றையும் எவ்வாறு பாதிக்கின்றன என்று அனுபவம் மூலம் அறியலாம். நம் எண்ணங்களின் சக்தி கொண்டு\, மனிதர்களிடையே நல்லிணக்கமும்\, உறவுகளைச் சீரமைக்கும் வழிகளையும் அறியலாம். நாம் நிபந்தனையற்ற அன்பு பற்றியும்\, அதன் மூலத்துடன் தொடர்பு கொள்ளும் வழிமுறைகளையும் கண்டறியலாம். அந்த மதிப்புமிக்க கொடையால் நாமும் நிறைந்து\, பிறருக்கும் அதை வாரி வழங்கலாம். இந்த தியானப்பயிற்சிக்கு எந்த முன்னறிவும் தேவையில்லை. No prerequisite required.
URL:https://bklosangeles.org/event/online-sd-sry-abril2025/
LOCATION:San Diego – On-Zoom
CATEGORIES:Raja Yoga Meditation,San Diego
ORGANIZER;CN="BK SD Team":MAILTO:bklasandiego@gmail.com
END:VEVENT
BEGIN:VEVENT
DTSTART;TZID=America/Los_Angeles:20250407T194500
DTEND;TZID=America/Los_Angeles:20250407T210000
DTSTAMP:20260422T161423
CREATED:20241014T210849Z
LAST-MODIFIED:20250303T063536Z
UID:8886-1744055100-1744059600@bklosangeles.org
SUMMARY:Online: Tamil தமிழ் ஆன்லைன் ராஜயோக தியானம் - ஏப்ரல் April 2025
DESCRIPTION:ஆன்லைன் ராஜ யோகா தியானம்அறிமுகப் பாடநெறி					\n						\n				\n						\n					\n		\n								\n					\n		\n				\n						\n							\n					\n			\n							\n						\n				\n								\n																										\n						\n				\n						\n					\n		\n								\n					\n		\n				\n						\n							\n					\n			\n							\n						\n				\n								\n				Week 1: June 01\, 03 and 05Week 2:June 08\, 10 and 12Week 3: June 15\, 17 and 1907:45 – 09:00 PM PDT (California Time)இந்த அறிமுக வகுப்பில் நாம் இராஜயோக தியானத்தின் மூலமாக மீண்டும் நமது ஆத்ம சக்தி\, அமைதி\, நல்லிணக்கத்தை அடையும் வழிகள் மற்றும் அனுபவங்களை அறியலாம். மேலும் ஆத்மாவின் இயல்புகளைத் தெரிந்து கொள்வதோடு\, நமது அன்றாட செயல்களும்\, தேர்வுகளும் ஆத்மாவின் முக்கிய அம்சங்களான மனம்\, புத்தி\, எண்ணம் ஆகிய மூன்றையும் எவ்வாறு பாதிக்கின்றன என்று அனுபவம் மூலம் அறியலாம். நம் எண்ணங்களின் சக்தி கொண்டு\, மனிதர்களிடையே நல்லிணக்கமும்\, உறவுகளைச் சீரமைக்கும் வழிகளையும் அறியலாம். நாம் நிபந்தனையற்ற அன்பு பற்றியும்\, அதன் மூலத்துடன் தொடர்பு கொள்ளும் வழிமுறைகளையும் கண்டறியலாம். அந்த மதிப்புமிக்க கொடையால் நாமும் நிறைந்து\, பிறருக்கும் அதை வாரி வழங்கலாம். இந்த தியானப்பயிற்சிக்கு எந்த முன்னறிவும் தேவையில்லை. No prerequisite required.
URL:https://bklosangeles.org/event/online-t-apr-2025/
LOCATION:General Zoom Room
CATEGORIES:Cerritos,Los Angeles,Raja Yoga Meditation,San Diego
ORGANIZER;CN="BK Los Angeles Team":MAILTO:losangeles@us.brahmakumaris.org
END:VEVENT
BEGIN:VEVENT
DTSTART;TZID=America/Los_Angeles:20250407T194500
DTEND;TZID=America/Los_Angeles:20250407T210000
DTSTAMP:20260422T161423
CREATED:20241014T235125Z
LAST-MODIFIED:20250303T063336Z
UID:8948-1744055100-1744059600@bklosangeles.org
SUMMARY:Online: English Raja Yoga Meditation - April 2025
DESCRIPTION:ஆன்லைன் ராஜ யோகா தியானம்அறிமுகப் பாடநெறி					\n						\n				\n						\n					\n		\n								\n					\n		\n				\n						\n							\n					\n			\n							\n						\n				\n								\n																										\n						\n				\n						\n					\n		\n								\n					\n		\n				\n						\n							\n					\n			\n							\n						\n				\n								\n				Week 1: June 01\, 03 and 05Week 2:June 08\, 10 and 12Week 3: June 15\, 17 and 1907:45 – 09:00 PM PDT (California Time)இந்த அறிமுக வகுப்பில் நாம் இராஜயோக தியானத்தின் மூலமாக மீண்டும் நமது ஆத்ம சக்தி\, அமைதி\, நல்லிணக்கத்தை அடையும் வழிகள் மற்றும் அனுபவங்களை அறியலாம். மேலும் ஆத்மாவின் இயல்புகளைத் தெரிந்து கொள்வதோடு\, நமது அன்றாட செயல்களும்\, தேர்வுகளும் ஆத்மாவின் முக்கிய அம்சங்களான மனம்\, புத்தி\, எண்ணம் ஆகிய மூன்றையும் எவ்வாறு பாதிக்கின்றன என்று அனுபவம் மூலம் அறியலாம். நம் எண்ணங்களின் சக்தி கொண்டு\, மனிதர்களிடையே நல்லிணக்கமும்\, உறவுகளைச் சீரமைக்கும் வழிகளையும் அறியலாம். நாம் நிபந்தனையற்ற அன்பு பற்றியும்\, அதன் மூலத்துடன் தொடர்பு கொள்ளும் வழிமுறைகளையும் கண்டறியலாம். அந்த மதிப்புமிக்க கொடையால் நாமும் நிறைந்து\, பிறருக்கும் அதை வாரி வழங்கலாம். இந்த தியானப்பயிற்சிக்கு எந்த முன்னறிவும் தேவையில்லை. No prerequisite required.
URL:https://bklosangeles.org/event/online-english-raja-yoga-meditation-april-2025/
LOCATION:General Zoom Room
CATEGORIES:Cerritos,Los Angeles,Raja Yoga Meditation,San Diego
ORGANIZER;CN="BK Los Angeles Team":MAILTO:losangeles@us.brahmakumaris.org
END:VEVENT
BEGIN:VEVENT
DTSTART;TZID=America/Los_Angeles:20250407T194500
DTEND;TZID=America/Los_Angeles:20250407T210000
DTSTAMP:20260422T161423
CREATED:20241015T003031Z
LAST-MODIFIED:20250303T063320Z
UID:8971-1744055100-1744059600@bklosangeles.org
SUMMARY:Online: Hindi हिन्दी ऑनलाइन राजयोग ध्यान - अप्रैल April 2025
DESCRIPTION:ஆன்லைன் ராஜ யோகா தியானம்அறிமுகப் பாடநெறி					\n						\n				\n						\n					\n		\n								\n					\n		\n				\n						\n							\n					\n			\n							\n						\n				\n								\n																										\n						\n				\n						\n					\n		\n								\n					\n		\n				\n						\n							\n					\n			\n							\n						\n				\n								\n				Week 1: June 01\, 03 and 05Week 2:June 08\, 10 and 12Week 3: June 15\, 17 and 1907:45 – 09:00 PM PDT (California Time)இந்த அறிமுக வகுப்பில் நாம் இராஜயோக தியானத்தின் மூலமாக மீண்டும் நமது ஆத்ம சக்தி\, அமைதி\, நல்லிணக்கத்தை அடையும் வழிகள் மற்றும் அனுபவங்களை அறியலாம். மேலும் ஆத்மாவின் இயல்புகளைத் தெரிந்து கொள்வதோடு\, நமது அன்றாட செயல்களும்\, தேர்வுகளும் ஆத்மாவின் முக்கிய அம்சங்களான மனம்\, புத்தி\, எண்ணம் ஆகிய மூன்றையும் எவ்வாறு பாதிக்கின்றன என்று அனுபவம் மூலம் அறியலாம். நம் எண்ணங்களின் சக்தி கொண்டு\, மனிதர்களிடையே நல்லிணக்கமும்\, உறவுகளைச் சீரமைக்கும் வழிகளையும் அறியலாம். நாம் நிபந்தனையற்ற அன்பு பற்றியும்\, அதன் மூலத்துடன் தொடர்பு கொள்ளும் வழிமுறைகளையும் கண்டறியலாம். அந்த மதிப்புமிக்க கொடையால் நாமும் நிறைந்து\, பிறருக்கும் அதை வாரி வழங்கலாம். இந்த தியானப்பயிற்சிக்கு எந்த முன்னறிவும் தேவையில்லை. No prerequisite required.
URL:https://bklosangeles.org/event/online-hindi-%e0%a4%85%e0%a4%aa%e0%a5%8d%e0%a4%b0%e0%a5%88%e0%a4%b22025/
LOCATION:General Zoom Room
CATEGORIES:Cerritos,Los Angeles,Raja Yoga Meditation,San Diego
ORGANIZER;CN="BK Los Angeles Team":MAILTO:losangeles@us.brahmakumaris.org
END:VEVENT
BEGIN:VEVENT
DTSTART;TZID=America/Los_Angeles:20250422T193000
DTEND;TZID=America/Los_Angeles:20250422T210000
DTSTAMP:20260422T161423
CREATED:20250315T194104Z
LAST-MODIFIED:20250410T064728Z
UID:9349-1745350200-1745355600@bklosangeles.org
SUMMARY:Online:  Caring for the Earth - April 2025
DESCRIPTION:ஆன்லைன் ராஜ யோகா தியானம்அறிமுகப் பாடநெறி					\n						\n				\n						\n					\n		\n								\n					\n		\n				\n						\n							\n					\n			\n							\n						\n				\n								\n																										\n						\n				\n						\n					\n		\n								\n					\n		\n				\n						\n							\n					\n			\n							\n						\n				\n								\n				Week 1: June 01\, 03 and 05Week 2:June 08\, 10 and 12Week 3: June 15\, 17 and 1907:45 – 09:00 PM PDT (California Time)இந்த அறிமுக வகுப்பில் நாம் இராஜயோக தியானத்தின் மூலமாக மீண்டும் நமது ஆத்ம சக்தி\, அமைதி\, நல்லிணக்கத்தை அடையும் வழிகள் மற்றும் அனுபவங்களை அறியலாம். மேலும் ஆத்மாவின் இயல்புகளைத் தெரிந்து கொள்வதோடு\, நமது அன்றாட செயல்களும்\, தேர்வுகளும் ஆத்மாவின் முக்கிய அம்சங்களான மனம்\, புத்தி\, எண்ணம் ஆகிய மூன்றையும் எவ்வாறு பாதிக்கின்றன என்று அனுபவம் மூலம் அறியலாம். நம் எண்ணங்களின் சக்தி கொண்டு\, மனிதர்களிடையே நல்லிணக்கமும்\, உறவுகளைச் சீரமைக்கும் வழிகளையும் அறியலாம். நாம் நிபந்தனையற்ற அன்பு பற்றியும்\, அதன் மூலத்துடன் தொடர்பு கொள்ளும் வழிமுறைகளையும் கண்டறியலாம். அந்த மதிப்புமிக்க கொடையால் நாமும் நிறைந்து\, பிறருக்கும் அதை வாரி வழங்கலாம். இந்த தியானப்பயிற்சிக்கு எந்த முன்னறிவும் தேவையில்லை. No prerequisite required.
URL:https://bklosangeles.org/event/online-caring-for-the-earth-april-2025/
LOCATION:General Zoom Room
CATEGORIES:Cerritos,Featured Events,Los Angeles,San Diego,Zoom Room
ORGANIZER;CN="BK Los Angeles Team":MAILTO:losangeles@us.brahmakumaris.org
END:VEVENT
END:VCALENDAR