BEGIN:VCALENDAR
VERSION:2.0
PRODID:-//Brahma Kumaris - Los Angeles - ECPv6.15.20//NONSGML v1.0//EN
CALSCALE:GREGORIAN
METHOD:PUBLISH
X-ORIGINAL-URL:https://bklosangeles.org
X-WR-CALDESC:Events for Brahma Kumaris - Los Angeles
REFRESH-INTERVAL;VALUE=DURATION:PT1H
X-Robots-Tag:noindex
X-PUBLISHED-TTL:PT1H
BEGIN:VTIMEZONE
TZID:America/Los_Angeles
BEGIN:DAYLIGHT
TZOFFSETFROM:-0800
TZOFFSETTO:-0700
TZNAME:PDT
DTSTART:20240310T100000
END:DAYLIGHT
BEGIN:STANDARD
TZOFFSETFROM:-0700
TZOFFSETTO:-0800
TZNAME:PST
DTSTART:20241103T090000
END:STANDARD
BEGIN:DAYLIGHT
TZOFFSETFROM:-0800
TZOFFSETTO:-0700
TZNAME:PDT
DTSTART:20250309T100000
END:DAYLIGHT
BEGIN:STANDARD
TZOFFSETFROM:-0700
TZOFFSETTO:-0800
TZNAME:PST
DTSTART:20251102T090000
END:STANDARD
BEGIN:DAYLIGHT
TZOFFSETFROM:-0800
TZOFFSETTO:-0700
TZNAME:PDT
DTSTART:20260308T100000
END:DAYLIGHT
BEGIN:STANDARD
TZOFFSETFROM:-0700
TZOFFSETTO:-0800
TZNAME:PST
DTSTART:20261101T090000
END:STANDARD
END:VTIMEZONE
BEGIN:VEVENT
DTSTART;TZID=America/Los_Angeles:20250203T170000
DTEND;TZID=America/Los_Angeles:20250203T183000
DTSTAMP:20260422T224840
CREATED:20241015T001820Z
LAST-MODIFIED:20241222T204859Z
UID:8963-1738602000-1738607400@bklosangeles.org
SUMMARY:Online: Hindi हिन्दी ऑनलाइन राजयोग ध्यान - फ़रवरी February 2025
DESCRIPTION:Nourish Your Body and Soul with YogaIn-Person Weekend Yoga WorkshopFree of ChargeAll are Welcome					\n						\n				\n						\n					\n		\n								\n					\n		\n				\n						\n							\n					\n			\n							\n						\n				\n								\n																										\n						\n				\n						\n					\n		\n								\n					\n		\n				\n						\n							\n					\n			\n							\n						\n				\n								\n				Join us for a rejuvenating yoga session designed to align your body and soul. Connect with your breath\, release tension\, and flow with intention.Please bring your yoga mat\, water bottle and towel.Saturday\, May 16\, 20269:00 – 10:00 AMBrahma Kumaris Meditation Place9393 Activity Road\, Suite F/GSan Diego\, CA 92126 Please RSVP as Limited space is Available. All events are offered in the spirit of service by the Brahma Kumaris\, a nonprofit organization. Donations are gratefully accepted.
URL:https://bklosangeles.org/event/online-hindi-%e0%a4%ab%e0%a4%bc%e0%a4%b0%e0%a4%b5%e0%a4%b0%e0%a5%802025/
LOCATION:General Zoom Room
CATEGORIES:Cerritos,Los Angeles,Raja Yoga Meditation,San Diego
ORGANIZER;CN="BK Los Angeles Team":MAILTO:losangeles@us.brahmakumaris.org
END:VEVENT
BEGIN:VEVENT
DTSTART;TZID=America/Los_Angeles:20250203T190000
DTEND;TZID=America/Los_Angeles:20250203T210000
DTSTAMP:20260422T224841
CREATED:20241015T005716Z
LAST-MODIFIED:20241222T205006Z
UID:8985-1738609200-1738616400@bklosangeles.org
SUMMARY:Online - San Diego: Meditación Raja Yoga Online en Español - Febrero 2025
DESCRIPTION:Nourish Your Body and Soul with YogaIn-Person Weekend Yoga WorkshopFree of ChargeAll are Welcome					\n						\n				\n						\n					\n		\n								\n					\n		\n				\n						\n							\n					\n			\n							\n						\n				\n								\n																										\n						\n				\n						\n					\n		\n								\n					\n		\n				\n						\n							\n					\n			\n							\n						\n				\n								\n				Join us for a rejuvenating yoga session designed to align your body and soul. Connect with your breath\, release tension\, and flow with intention.Please bring your yoga mat\, water bottle and towel.Saturday\, May 16\, 20269:00 – 10:00 AMBrahma Kumaris Meditation Place9393 Activity Road\, Suite F/GSan Diego\, CA 92126 Please RSVP as Limited space is Available. All events are offered in the spirit of service by the Brahma Kumaris\, a nonprofit organization. Donations are gratefully accepted.
URL:https://bklosangeles.org/event/online-sd-sry-febrero2025/
LOCATION:San Diego – On-Zoom
CATEGORIES:Raja Yoga Meditation,San Diego
ORGANIZER;CN="BK SD Team":MAILTO:bklasandiego@gmail.com
END:VEVENT
BEGIN:VEVENT
DTSTART;TZID=America/Los_Angeles:20250203T194500
DTEND;TZID=America/Los_Angeles:20250203T210000
DTSTAMP:20260422T224841
CREATED:20241014T210044Z
LAST-MODIFIED:20241222T205059Z
UID:8880-1738611900-1738616400@bklosangeles.org
SUMMARY:Online: Tamil தமிழ் ஆன்லைன் ராஜயோக தியானம் - பிப்ரவரி February 2025
DESCRIPTION:Nourish Your Body and Soul with YogaIn-Person Weekend Yoga WorkshopFree of ChargeAll are Welcome					\n						\n				\n						\n					\n		\n								\n					\n		\n				\n						\n							\n					\n			\n							\n						\n				\n								\n																										\n						\n				\n						\n					\n		\n								\n					\n		\n				\n						\n							\n					\n			\n							\n						\n				\n								\n				Join us for a rejuvenating yoga session designed to align your body and soul. Connect with your breath\, release tension\, and flow with intention.Please bring your yoga mat\, water bottle and towel.Saturday\, May 16\, 20269:00 – 10:00 AMBrahma Kumaris Meditation Place9393 Activity Road\, Suite F/GSan Diego\, CA 92126 Please RSVP as Limited space is Available. All events are offered in the spirit of service by the Brahma Kumaris\, a nonprofit organization. Donations are gratefully accepted.
URL:https://bklosangeles.org/event/online-t-feb-2025/
LOCATION:General Zoom Room
CATEGORIES:Cerritos,Los Angeles,Raja Yoga Meditation,San Diego
ORGANIZER;CN="BK Los Angeles Team":MAILTO:losangeles@us.brahmakumaris.org
END:VEVENT
BEGIN:VEVENT
DTSTART;TZID=America/Los_Angeles:20250203T194500
DTEND;TZID=America/Los_Angeles:20250203T210000
DTSTAMP:20260422T224841
CREATED:20241014T233658Z
LAST-MODIFIED:20241222T205207Z
UID:8938-1738611900-1738616400@bklosangeles.org
SUMMARY:Online: English Raja Yoga Meditation - February 2025
DESCRIPTION:Nourish Your Body and Soul with YogaIn-Person Weekend Yoga WorkshopFree of ChargeAll are Welcome					\n						\n				\n						\n					\n		\n								\n					\n		\n				\n						\n							\n					\n			\n							\n						\n				\n								\n																										\n						\n				\n						\n					\n		\n								\n					\n		\n				\n						\n							\n					\n			\n							\n						\n				\n								\n				Join us for a rejuvenating yoga session designed to align your body and soul. Connect with your breath\, release tension\, and flow with intention.Please bring your yoga mat\, water bottle and towel.Saturday\, May 16\, 20269:00 – 10:00 AMBrahma Kumaris Meditation Place9393 Activity Road\, Suite F/GSan Diego\, CA 92126 Please RSVP as Limited space is Available. All events are offered in the spirit of service by the Brahma Kumaris\, a nonprofit organization. Donations are gratefully accepted.
URL:https://bklosangeles.org/event/online-english-raja-yoga-meditation-feb-2025/
LOCATION:General Zoom Room
CATEGORIES:Cerritos,Los Angeles,Raja Yoga Meditation,San Diego
ORGANIZER;CN="BK Los Angeles Team":MAILTO:losangeles@us.brahmakumaris.org
END:VEVENT
END:VCALENDAR