BEGIN:VCALENDAR
VERSION:2.0
PRODID:-//Brahma Kumaris - Los Angeles - ECPv6.15.20//NONSGML v1.0//EN
CALSCALE:GREGORIAN
METHOD:PUBLISH
X-ORIGINAL-URL:https://bklosangeles.org
X-WR-CALDESC:Events for Brahma Kumaris - Los Angeles
REFRESH-INTERVAL;VALUE=DURATION:PT1H
X-Robots-Tag:noindex
X-PUBLISHED-TTL:PT1H
BEGIN:VTIMEZONE
TZID:America/Los_Angeles
BEGIN:DAYLIGHT
TZOFFSETFROM:-0800
TZOFFSETTO:-0700
TZNAME:PDT
DTSTART:20240310T100000
END:DAYLIGHT
BEGIN:STANDARD
TZOFFSETFROM:-0700
TZOFFSETTO:-0800
TZNAME:PST
DTSTART:20241103T090000
END:STANDARD
BEGIN:DAYLIGHT
TZOFFSETFROM:-0800
TZOFFSETTO:-0700
TZNAME:PDT
DTSTART:20250309T100000
END:DAYLIGHT
BEGIN:STANDARD
TZOFFSETFROM:-0700
TZOFFSETTO:-0800
TZNAME:PST
DTSTART:20251102T090000
END:STANDARD
BEGIN:DAYLIGHT
TZOFFSETFROM:-0800
TZOFFSETTO:-0700
TZNAME:PDT
DTSTART:20260308T100000
END:DAYLIGHT
BEGIN:STANDARD
TZOFFSETFROM:-0700
TZOFFSETTO:-0800
TZNAME:PST
DTSTART:20261101T090000
END:STANDARD
END:VTIMEZONE
BEGIN:VEVENT
DTSTART;TZID=America/Los_Angeles:20250106T190000
DTEND;TZID=America/Los_Angeles:20250106T210000
DTSTAMP:20260423T164142
CREATED:20241015T005052Z
LAST-MODIFIED:20241222T072604Z
UID:8981-1736190000-1736197200@bklosangeles.org
SUMMARY:Online - San Diego: Meditación Raja Yoga Online en Español - Enero 2025
DESCRIPTION:In-Person Open HouseFree of ChargeAll are Welcome What to expect:* Games for all ages* Guided meditation* Peaceful atmosphere* Light refreshmentsCome as you are.  Leave refreshed and empowered. Sunday\, May 31\, 202610:00 AM – 12:00 PMBrahma Kumaris Meditation Place9393 Activity Road\, Suite F/GSan Diego\, CA 92126 Please RSVP. All events are offered in the spirit of service by the Brahma Kumaris\, a nonprofit organization. Donations are gratefully accepted.
URL:https://bklosangeles.org/event/online-sd-sry-enero2025/
LOCATION:San Diego – On-Zoom
CATEGORIES:Raja Yoga Meditation,San Diego
ORGANIZER;CN="BK SD Team":MAILTO:bklasandiego@gmail.com
END:VEVENT
BEGIN:VEVENT
DTSTART;TZID=America/Los_Angeles:20250106T194500
DTEND;TZID=America/Los_Angeles:20250106T210000
DTSTAMP:20260423T164142
CREATED:20241009T181016Z
LAST-MODIFIED:20241222T073144Z
UID:8854-1736192700-1736197200@bklosangeles.org
SUMMARY:Online: Tamil தமிழ் ஆன்லைன் ராஜயோக தியானம் - ஜனவரி January 2025
DESCRIPTION:In-Person Open HouseFree of ChargeAll are Welcome What to expect:* Games for all ages* Guided meditation* Peaceful atmosphere* Light refreshmentsCome as you are.  Leave refreshed and empowered. Sunday\, May 31\, 202610:00 AM – 12:00 PMBrahma Kumaris Meditation Place9393 Activity Road\, Suite F/GSan Diego\, CA 92126 Please RSVP. All events are offered in the spirit of service by the Brahma Kumaris\, a nonprofit organization. Donations are gratefully accepted.
URL:https://bklosangeles.org/event/online-t-jan2025/
LOCATION:General Zoom Room
CATEGORIES:Cerritos,Los Angeles,Raja Yoga Meditation,San Diego
ORGANIZER;CN="BK Los Angeles Team":MAILTO:losangeles@us.brahmakumaris.org
END:VEVENT
BEGIN:VEVENT
DTSTART;TZID=America/Los_Angeles:20250106T194500
DTEND;TZID=America/Los_Angeles:20250106T210000
DTSTAMP:20260423T164142
CREATED:20241015T001045Z
LAST-MODIFIED:20241222T072230Z
UID:8958-1736192700-1736197200@bklosangeles.org
SUMMARY:Online: Hindi हिन्दी ऑनलाइन राजयोग ध्यान - जनवरी January 2025
DESCRIPTION:In-Person Open HouseFree of ChargeAll are Welcome What to expect:* Games for all ages* Guided meditation* Peaceful atmosphere* Light refreshmentsCome as you are.  Leave refreshed and empowered. Sunday\, May 31\, 202610:00 AM – 12:00 PMBrahma Kumaris Meditation Place9393 Activity Road\, Suite F/GSan Diego\, CA 92126 Please RSVP. All events are offered in the spirit of service by the Brahma Kumaris\, a nonprofit organization. Donations are gratefully accepted.
URL:https://bklosangeles.org/event/online-hindi-%e0%a4%9c%e0%a4%a8%e0%a4%b5%e0%a4%b0%e0%a5%802025/
LOCATION:General Zoom Room
CATEGORIES:Cerritos,Los Angeles,Raja Yoga Meditation,San Diego
ORGANIZER;CN="BK Los Angeles Team":MAILTO:losangeles@us.brahmakumaris.org
END:VEVENT
END:VCALENDAR