BEGIN:VCALENDAR
VERSION:2.0
PRODID:-//Brahma Kumaris - Los Angeles - ECPv6.15.20//NONSGML v1.0//EN
CALSCALE:GREGORIAN
METHOD:PUBLISH
X-WR-CALNAME:Brahma Kumaris - Los Angeles
X-ORIGINAL-URL:https://bklosangeles.org
X-WR-CALDESC:Events for Brahma Kumaris - Los Angeles
REFRESH-INTERVAL;VALUE=DURATION:PT1H
X-Robots-Tag:noindex
X-PUBLISHED-TTL:PT1H
BEGIN:VTIMEZONE
TZID:America/Los_Angeles
BEGIN:DAYLIGHT
TZOFFSETFROM:-0800
TZOFFSETTO:-0700
TZNAME:PDT
DTSTART:20240310T100000
END:DAYLIGHT
BEGIN:STANDARD
TZOFFSETFROM:-0700
TZOFFSETTO:-0800
TZNAME:PST
DTSTART:20241103T090000
END:STANDARD
BEGIN:DAYLIGHT
TZOFFSETFROM:-0800
TZOFFSETTO:-0700
TZNAME:PDT
DTSTART:20250309T100000
END:DAYLIGHT
BEGIN:STANDARD
TZOFFSETFROM:-0700
TZOFFSETTO:-0800
TZNAME:PST
DTSTART:20251102T090000
END:STANDARD
BEGIN:DAYLIGHT
TZOFFSETFROM:-0800
TZOFFSETTO:-0700
TZNAME:PDT
DTSTART:20260308T100000
END:DAYLIGHT
BEGIN:STANDARD
TZOFFSETFROM:-0700
TZOFFSETTO:-0800
TZNAME:PST
DTSTART:20261101T090000
END:STANDARD
END:VTIMEZONE
BEGIN:VEVENT
DTSTART;TZID=America/Los_Angeles:20250602T190000
DTEND;TZID=America/Los_Angeles:20250602T210000
DTSTAMP:20260422T224345
CREATED:20250517T033507Z
LAST-MODIFIED:20250517T033708Z
UID:9520-1748890800-1748898000@bklosangeles.org
SUMMARY:Online - San Diego: Meditación Raja Yoga Online en Español - Junio June 2025
DESCRIPTION:Nourish Your Body and Soul with YogaIn-Person Weekend Yoga WorkshopFree of ChargeAll are Welcome					\n						\n				\n						\n					\n		\n								\n					\n		\n				\n						\n							\n					\n			\n							\n						\n				\n								\n																										\n						\n				\n						\n					\n		\n								\n					\n		\n				\n						\n							\n					\n			\n							\n						\n				\n								\n				Join us for a rejuvenating yoga session designed to align your body and soul. Connect with your breath\, release tension\, and flow with intention.Please bring your yoga mat\, water bottle and towel.Saturday\, May 16\, 20269:00 – 10:00 AMBrahma Kumaris Meditation Place9393 Activity Road\, Suite F/GSan Diego\, CA 92126 Please RSVP as Limited space is Available. All events are offered in the spirit of service by the Brahma Kumaris\, a nonprofit organization. Donations are gratefully accepted.
URL:https://bklosangeles.org/event/online-sd-spanish-june-2025/
LOCATION:San Diego – On-Zoom
CATEGORIES:Raja Yoga Meditation,San Diego
ORGANIZER;CN="BK SD Team":MAILTO:bklasandiego@gmail.com
END:VEVENT
BEGIN:VEVENT
DTSTART;TZID=America/Los_Angeles:20250602T194500
DTEND;TZID=America/Los_Angeles:20250602T210000
DTSTAMP:20260422T224345
CREATED:20250517T024935Z
LAST-MODIFIED:20250517T025134Z
UID:9508-1748893500-1748898000@bklosangeles.org
SUMMARY:Online: English Raja Yoga Meditation - June 2025
DESCRIPTION:Nourish Your Body and Soul with YogaIn-Person Weekend Yoga WorkshopFree of ChargeAll are Welcome					\n						\n				\n						\n					\n		\n								\n					\n		\n				\n						\n							\n					\n			\n							\n						\n				\n								\n																										\n						\n				\n						\n					\n		\n								\n					\n		\n				\n						\n							\n					\n			\n							\n						\n				\n								\n				Join us for a rejuvenating yoga session designed to align your body and soul. Connect with your breath\, release tension\, and flow with intention.Please bring your yoga mat\, water bottle and towel.Saturday\, May 16\, 20269:00 – 10:00 AMBrahma Kumaris Meditation Place9393 Activity Road\, Suite F/GSan Diego\, CA 92126 Please RSVP as Limited space is Available. All events are offered in the spirit of service by the Brahma Kumaris\, a nonprofit organization. Donations are gratefully accepted.
URL:https://bklosangeles.org/event/online-english-raja-yoga-meditation-june-2025/
LOCATION:General Zoom Room
CATEGORIES:Cerritos,Los Angeles,Raja Yoga Meditation,San Diego
ORGANIZER;CN="BK Los Angeles Team":MAILTO:losangeles@us.brahmakumaris.org
END:VEVENT
BEGIN:VEVENT
DTSTART;TZID=America/Los_Angeles:20250602T194500
DTEND;TZID=America/Los_Angeles:20250602T210000
DTSTAMP:20260422T224346
CREATED:20250517T030940Z
LAST-MODIFIED:20250517T031244Z
UID:9513-1748893500-1748898000@bklosangeles.org
SUMMARY:Online: Tamil தமிழ் ஆன்லைன் ராஜயோக தியானம் - ஜூன் June 2025
DESCRIPTION:Nourish Your Body and Soul with YogaIn-Person Weekend Yoga WorkshopFree of ChargeAll are Welcome					\n						\n				\n						\n					\n		\n								\n					\n		\n				\n						\n							\n					\n			\n							\n						\n				\n								\n																										\n						\n				\n						\n					\n		\n								\n					\n		\n				\n						\n							\n					\n			\n							\n						\n				\n								\n				Join us for a rejuvenating yoga session designed to align your body and soul. Connect with your breath\, release tension\, and flow with intention.Please bring your yoga mat\, water bottle and towel.Saturday\, May 16\, 20269:00 – 10:00 AMBrahma Kumaris Meditation Place9393 Activity Road\, Suite F/GSan Diego\, CA 92126 Please RSVP as Limited space is Available. All events are offered in the spirit of service by the Brahma Kumaris\, a nonprofit organization. Donations are gratefully accepted.
URL:https://bklosangeles.org/event/online-tamil-june-2025/
LOCATION:General Zoom Room
CATEGORIES:Cerritos,Los Angeles,Raja Yoga Meditation,San Diego
ORGANIZER;CN="BK Los Angeles Team":MAILTO:losangeles@us.brahmakumaris.org
END:VEVENT
BEGIN:VEVENT
DTSTART;TZID=America/Los_Angeles:20250602T194500
DTEND;TZID=America/Los_Angeles:20250602T210000
DTSTAMP:20260422T224346
CREATED:20250517T032511Z
LAST-MODIFIED:20250517T032644Z
UID:9516-1748893500-1748898000@bklosangeles.org
SUMMARY:Online: Hindi हिन्दी ऑनलाइन राजयोग ध्यान - जून June 2025
DESCRIPTION:Nourish Your Body and Soul with YogaIn-Person Weekend Yoga WorkshopFree of ChargeAll are Welcome					\n						\n				\n						\n					\n		\n								\n					\n		\n				\n						\n							\n					\n			\n							\n						\n				\n								\n																										\n						\n				\n						\n					\n		\n								\n					\n		\n				\n						\n							\n					\n			\n							\n						\n				\n								\n				Join us for a rejuvenating yoga session designed to align your body and soul. Connect with your breath\, release tension\, and flow with intention.Please bring your yoga mat\, water bottle and towel.Saturday\, May 16\, 20269:00 – 10:00 AMBrahma Kumaris Meditation Place9393 Activity Road\, Suite F/GSan Diego\, CA 92126 Please RSVP as Limited space is Available. All events are offered in the spirit of service by the Brahma Kumaris\, a nonprofit organization. Donations are gratefully accepted.
URL:https://bklosangeles.org/event/online-hindi-june-2025/
LOCATION:General Zoom Room
CATEGORIES:Cerritos,Los Angeles,Raja Yoga Meditation,San Diego
ORGANIZER;CN="BK Los Angeles Team":MAILTO:losangeles@us.brahmakumaris.org
END:VEVENT
BEGIN:VEVENT
DTSTART;TZID=America/Los_Angeles:20250607T143000
DTEND;TZID=America/Los_Angeles:20250607T160000
DTSTAMP:20260422T224346
CREATED:20250601T215026Z
LAST-MODIFIED:20250601T220058Z
UID:9549-1749306600-1749312000@bklosangeles.org
SUMMARY:Online:  Core Values for Better Version of Me - June 2025
DESCRIPTION:Nourish Your Body and Soul with YogaIn-Person Weekend Yoga WorkshopFree of ChargeAll are Welcome					\n						\n				\n						\n					\n		\n								\n					\n		\n				\n						\n							\n					\n			\n							\n						\n				\n								\n																										\n						\n				\n						\n					\n		\n								\n					\n		\n				\n						\n							\n					\n			\n							\n						\n				\n								\n				Join us for a rejuvenating yoga session designed to align your body and soul. Connect with your breath\, release tension\, and flow with intention.Please bring your yoga mat\, water bottle and towel.Saturday\, May 16\, 20269:00 – 10:00 AMBrahma Kumaris Meditation Place9393 Activity Road\, Suite F/GSan Diego\, CA 92126 Please RSVP as Limited space is Available. All events are offered in the spirit of service by the Brahma Kumaris\, a nonprofit organization. Donations are gratefully accepted.
URL:https://bklosangeles.org/event/online-core-values-for-better-version-of-me-june-2025/
LOCATION:General Zoom Room
CATEGORIES:Cerritos,Los Angeles,San Diego,Zoom Room
ORGANIZER;CN="BK Los Angeles Team":MAILTO:losangeles@us.brahmakumaris.org
END:VEVENT
END:VCALENDAR