BEGIN:VCALENDAR
VERSION:2.0
PRODID:-//Brahma Kumaris - Los Angeles - ECPv6.15.20//NONSGML v1.0//EN
CALSCALE:GREGORIAN
METHOD:PUBLISH
X-WR-CALNAME:Brahma Kumaris - Los Angeles
X-ORIGINAL-URL:https://bklosangeles.org
X-WR-CALDESC:Events for Brahma Kumaris - Los Angeles
REFRESH-INTERVAL;VALUE=DURATION:PT1H
X-Robots-Tag:noindex
X-PUBLISHED-TTL:PT1H
BEGIN:VTIMEZONE
TZID:America/Los_Angeles
BEGIN:DAYLIGHT
TZOFFSETFROM:-0800
TZOFFSETTO:-0700
TZNAME:PDT
DTSTART:20190310T100000
END:DAYLIGHT
BEGIN:STANDARD
TZOFFSETFROM:-0700
TZOFFSETTO:-0800
TZNAME:PST
DTSTART:20191103T090000
END:STANDARD
BEGIN:DAYLIGHT
TZOFFSETFROM:-0800
TZOFFSETTO:-0700
TZNAME:PDT
DTSTART:20200308T100000
END:DAYLIGHT
BEGIN:STANDARD
TZOFFSETFROM:-0700
TZOFFSETTO:-0800
TZNAME:PST
DTSTART:20201101T090000
END:STANDARD
BEGIN:DAYLIGHT
TZOFFSETFROM:-0800
TZOFFSETTO:-0700
TZNAME:PDT
DTSTART:20210314T100000
END:DAYLIGHT
BEGIN:STANDARD
TZOFFSETFROM:-0700
TZOFFSETTO:-0800
TZNAME:PST
DTSTART:20211107T090000
END:STANDARD
END:VTIMEZONE
BEGIN:VEVENT
DTSTART;TZID=America/Los_Angeles:20200716T190000
DTEND;TZID=America/Los_Angeles:20200716T200000
DTSTAMP:20260421T064809
CREATED:20200709T183422Z
LAST-MODIFIED:20200713T114432Z
UID:4231-1594926000-1594929600@bklosangeles.org
SUMMARY:Evening Meditation
DESCRIPTION:ஆன்லைன் ராஜ யோகா தியானம்மூன்று வார அறிமுக வகுப்பு  Week 1: August 07 \, 09 and 11Week 2: August 14\, 16 and 18Week 3: August 21\, 23 and 2507:45 to 09:00 PM PDTஇந்த அறிமுக வகுப்பில் நாம் இராஜயோக தியானத்தின் மூலமாக மீண்டும் நமது ஆத்ம சக்தி\, அமைதி\, நல்லிணக்கத்தை அடையும் வழிகள் மற்றும் அனுபவங்களை அறியலாம். மேலும் ஆத்மாவின் இயல்புகளைத் தெரிந்து கொள்வதோடு\, நமது அன்றாட செயல்களும்\, தேர்வுகளும் ஆத்மாவின் முக்கிய அம்சங்களான மனம்\, புத்தி\, எண்ணம் ஆகிய மூன்றையும் எவ்வாறு பாதிக்கின்றன என்று அனுபவம் மூலம் அறியலாம். நம் எண்ணங்களின் சக்தி கொண்டு\, மனிதர்களிடையே நல்லிணக்கமும்\, உறவுகளைச் சீரமைக்கும் வழிகளையும் அறியலாம். நாம் நிபந்தனையற்ற அன்பு பற்றியும்\, அதன் மூலத்துடன் தொடர்பு கொள்ளும் வழிமுறைகளையும் கண்டறியலாம். அந்த மதிப்புமிக்க கொடையால் நாமும் நிறைந்து\, பிறருக்கும் அதை வாரி வழங்கலாம். இந்த தியானப்பயிற்சிக்கு எந்த முன்னறிவும் தேவையில்லை. No prerequisite required.
URL:https://bklosangeles.org/event/evening-meditation-2020-07-16/
LOCATION:General Zoom Room
CATEGORIES:Seal Beach
ORGANIZER;CN="BK Seal Beach Team":MAILTO:sealbeach@us.brahmakumaris.org
END:VEVENT
BEGIN:VEVENT
DTSTART;TZID=America/Los_Angeles:20200712T190000
DTEND;TZID=America/Los_Angeles:20200712T203000
DTSTAMP:20260421T064809
CREATED:20200708T063110Z
LAST-MODIFIED:20200728T231749Z
UID:4198-1594580400-1594585800@bklosangeles.org
SUMMARY:Choosing Love and Peace
DESCRIPTION:ஆன்லைன் ராஜ யோகா தியானம்மூன்று வார அறிமுக வகுப்பு  Week 1: August 07 \, 09 and 11Week 2: August 14\, 16 and 18Week 3: August 21\, 23 and 2507:45 to 09:00 PM PDTஇந்த அறிமுக வகுப்பில் நாம் இராஜயோக தியானத்தின் மூலமாக மீண்டும் நமது ஆத்ம சக்தி\, அமைதி\, நல்லிணக்கத்தை அடையும் வழிகள் மற்றும் அனுபவங்களை அறியலாம். மேலும் ஆத்மாவின் இயல்புகளைத் தெரிந்து கொள்வதோடு\, நமது அன்றாட செயல்களும்\, தேர்வுகளும் ஆத்மாவின் முக்கிய அம்சங்களான மனம்\, புத்தி\, எண்ணம் ஆகிய மூன்றையும் எவ்வாறு பாதிக்கின்றன என்று அனுபவம் மூலம் அறியலாம். நம் எண்ணங்களின் சக்தி கொண்டு\, மனிதர்களிடையே நல்லிணக்கமும்\, உறவுகளைச் சீரமைக்கும் வழிகளையும் அறியலாம். நாம் நிபந்தனையற்ற அன்பு பற்றியும்\, அதன் மூலத்துடன் தொடர்பு கொள்ளும் வழிமுறைகளையும் கண்டறியலாம். அந்த மதிப்புமிக்க கொடையால் நாமும் நிறைந்து\, பிறருக்கும் அதை வாரி வழங்கலாம். இந்த தியானப்பயிற்சிக்கு எந்த முன்னறிவும் தேவையில்லை. No prerequisite required.
URL:https://bklosangeles.org/event/insightful-dialogue-series-choosing-love-peace/
LOCATION:General Zoom Room
CATEGORIES:Insightful Dialogue Series,Seal Beach
ORGANIZER;CN="BK Seal Beach Team":MAILTO:sealbeach@us.brahmakumaris.org
END:VEVENT
BEGIN:VEVENT
DTSTART;TZID=America/Los_Angeles:20200711T160000
DTEND;TZID=America/Los_Angeles:20200711T183000
DTSTAMP:20260421T064809
CREATED:20200626T194853Z
LAST-MODIFIED:20200811T170736Z
UID:3981-1594483200-1594492200@bklosangeles.org
SUMMARY:Being Light and Easy in Times of Chaos
DESCRIPTION:ஆன்லைன் ராஜ யோகா தியானம்மூன்று வார அறிமுக வகுப்பு  Week 1: August 07 \, 09 and 11Week 2: August 14\, 16 and 18Week 3: August 21\, 23 and 2507:45 to 09:00 PM PDTஇந்த அறிமுக வகுப்பில் நாம் இராஜயோக தியானத்தின் மூலமாக மீண்டும் நமது ஆத்ம சக்தி\, அமைதி\, நல்லிணக்கத்தை அடையும் வழிகள் மற்றும் அனுபவங்களை அறியலாம். மேலும் ஆத்மாவின் இயல்புகளைத் தெரிந்து கொள்வதோடு\, நமது அன்றாட செயல்களும்\, தேர்வுகளும் ஆத்மாவின் முக்கிய அம்சங்களான மனம்\, புத்தி\, எண்ணம் ஆகிய மூன்றையும் எவ்வாறு பாதிக்கின்றன என்று அனுபவம் மூலம் அறியலாம். நம் எண்ணங்களின் சக்தி கொண்டு\, மனிதர்களிடையே நல்லிணக்கமும்\, உறவுகளைச் சீரமைக்கும் வழிகளையும் அறியலாம். நாம் நிபந்தனையற்ற அன்பு பற்றியும்\, அதன் மூலத்துடன் தொடர்பு கொள்ளும் வழிமுறைகளையும் கண்டறியலாம். அந்த மதிப்புமிக்க கொடையால் நாமும் நிறைந்து\, பிறருக்கும் அதை வாரி வழங்கலாம். இந்த தியானப்பயிற்சிக்கு எந்த முன்னறிவும் தேவையில்லை. No prerequisite required.
URL:https://bklosangeles.org/event/insightful-dialogue-series-light-easy-times-chaos/
LOCATION:General Zoom Room
CATEGORIES:Insightful Dialogue Series,Los Angeles
ORGANIZER;CN="BK Los Angeles Team":MAILTO:losangeles@us.brahmakumaris.org
END:VEVENT
BEGIN:VEVENT
DTSTART;TZID=America/Los_Angeles:20200706T194500
DTEND;TZID=America/Los_Angeles:20200706T204500
DTSTAMP:20260421T064809
CREATED:20200626T194521Z
LAST-MODIFIED:20200811T171126Z
UID:3978-1594064700-1594068300@bklosangeles.org
SUMMARY:Online Raja Yoga Meditation - RY01
DESCRIPTION:ஆன்லைன் ராஜ யோகா தியானம்மூன்று வார அறிமுக வகுப்பு  Week 1: August 07 \, 09 and 11Week 2: August 14\, 16 and 18Week 3: August 21\, 23 and 2507:45 to 09:00 PM PDTஇந்த அறிமுக வகுப்பில் நாம் இராஜயோக தியானத்தின் மூலமாக மீண்டும் நமது ஆத்ம சக்தி\, அமைதி\, நல்லிணக்கத்தை அடையும் வழிகள் மற்றும் அனுபவங்களை அறியலாம். மேலும் ஆத்மாவின் இயல்புகளைத் தெரிந்து கொள்வதோடு\, நமது அன்றாட செயல்களும்\, தேர்வுகளும் ஆத்மாவின் முக்கிய அம்சங்களான மனம்\, புத்தி\, எண்ணம் ஆகிய மூன்றையும் எவ்வாறு பாதிக்கின்றன என்று அனுபவம் மூலம் அறியலாம். நம் எண்ணங்களின் சக்தி கொண்டு\, மனிதர்களிடையே நல்லிணக்கமும்\, உறவுகளைச் சீரமைக்கும் வழிகளையும் அறியலாம். நாம் நிபந்தனையற்ற அன்பு பற்றியும்\, அதன் மூலத்துடன் தொடர்பு கொள்ளும் வழிமுறைகளையும் கண்டறியலாம். அந்த மதிப்புமிக்க கொடையால் நாமும் நிறைந்து\, பிறருக்கும் அதை வாரி வழங்கலாம். இந்த தியானப்பயிற்சிக்கு எந்த முன்னறிவும் தேவையில்லை. No prerequisite required.
URL:https://bklosangeles.org/event/online-raja-yoga-meditation-ry01/
LOCATION:General Zoom Room
CATEGORIES:Los Angeles,Raja Yoga Meditation
ORGANIZER;CN="BK Los Angeles Team":MAILTO:losangeles@us.brahmakumaris.org
END:VEVENT
BEGIN:VEVENT
DTSTART;TZID=America/Los_Angeles:20200702T190000
DTEND;TZID=America/Los_Angeles:20200702T200000
DTSTAMP:20260421T064810
CREATED:20200709T183422Z
LAST-MODIFIED:20200715T004739Z
UID:4228-1593716400-1593720000@bklosangeles.org
SUMMARY:Thursday Evening Meditation
DESCRIPTION:ஆன்லைன் ராஜ யோகா தியானம்மூன்று வார அறிமுக வகுப்பு  Week 1: August 07 \, 09 and 11Week 2: August 14\, 16 and 18Week 3: August 21\, 23 and 2507:45 to 09:00 PM PDTஇந்த அறிமுக வகுப்பில் நாம் இராஜயோக தியானத்தின் மூலமாக மீண்டும் நமது ஆத்ம சக்தி\, அமைதி\, நல்லிணக்கத்தை அடையும் வழிகள் மற்றும் அனுபவங்களை அறியலாம். மேலும் ஆத்மாவின் இயல்புகளைத் தெரிந்து கொள்வதோடு\, நமது அன்றாட செயல்களும்\, தேர்வுகளும் ஆத்மாவின் முக்கிய அம்சங்களான மனம்\, புத்தி\, எண்ணம் ஆகிய மூன்றையும் எவ்வாறு பாதிக்கின்றன என்று அனுபவம் மூலம் அறியலாம். நம் எண்ணங்களின் சக்தி கொண்டு\, மனிதர்களிடையே நல்லிணக்கமும்\, உறவுகளைச் சீரமைக்கும் வழிகளையும் அறியலாம். நாம் நிபந்தனையற்ற அன்பு பற்றியும்\, அதன் மூலத்துடன் தொடர்பு கொள்ளும் வழிமுறைகளையும் கண்டறியலாம். அந்த மதிப்புமிக்க கொடையால் நாமும் நிறைந்து\, பிறருக்கும் அதை வாரி வழங்கலாம். இந்த தியானப்பயிற்சிக்கு எந்த முன்னறிவும் தேவையில்லை. No prerequisite required.
URL:https://bklosangeles.org/event/thursday-evening-meditation-07-02/
LOCATION:General Zoom Room
CATEGORIES:Seal Beach
ORGANIZER;CN="BK Seal Beach Team":MAILTO:sealbeach@us.brahmakumaris.org
END:VEVENT
END:VCALENDAR