BEGIN:VCALENDAR
VERSION:2.0
PRODID:-//Brahma Kumaris - Los Angeles - ECPv6.15.20//NONSGML v1.0//EN
CALSCALE:GREGORIAN
METHOD:PUBLISH
X-WR-CALNAME:Brahma Kumaris - Los Angeles
X-ORIGINAL-URL:https://bklosangeles.org
X-WR-CALDESC:Events for Brahma Kumaris - Los Angeles
REFRESH-INTERVAL;VALUE=DURATION:PT1H
X-Robots-Tag:noindex
X-PUBLISHED-TTL:PT1H
BEGIN:VTIMEZONE
TZID:America/Los_Angeles
BEGIN:DAYLIGHT
TZOFFSETFROM:-0800
TZOFFSETTO:-0700
TZNAME:PDT
DTSTART:20250309T100000
END:DAYLIGHT
BEGIN:STANDARD
TZOFFSETFROM:-0700
TZOFFSETTO:-0800
TZNAME:PST
DTSTART:20251102T090000
END:STANDARD
BEGIN:DAYLIGHT
TZOFFSETFROM:-0800
TZOFFSETTO:-0700
TZNAME:PDT
DTSTART:20260308T100000
END:DAYLIGHT
BEGIN:STANDARD
TZOFFSETFROM:-0700
TZOFFSETTO:-0800
TZNAME:PST
DTSTART:20261101T090000
END:STANDARD
BEGIN:DAYLIGHT
TZOFFSETFROM:-0800
TZOFFSETTO:-0700
TZNAME:PDT
DTSTART:20270314T100000
END:DAYLIGHT
BEGIN:STANDARD
TZOFFSETFROM:-0700
TZOFFSETTO:-0800
TZNAME:PST
DTSTART:20271107T090000
END:STANDARD
END:VTIMEZONE
BEGIN:VEVENT
DTSTART;TZID=America/Los_Angeles:20260601T194500
DTEND;TZID=America/Los_Angeles:20260601T210000
DTSTAMP:20260419T190553
CREATED:20260412T025922Z
LAST-MODIFIED:20260412T030050Z
UID:10538-1780343100-1780347600@bklosangeles.org
SUMMARY:Online: PM English Raja Yoga Meditation - June 2026
DESCRIPTION:World Meditation HourLet’s Elevate the Planet’s Vibration					\n						\n				\n						\n					\n		\n								\n					\n		\n				\n						\n							\n					\n			\n							\n						\n				\n								\n																										\n						\n				\n				\n				\n								\n				Sunday\, December 15\, 202406:30 – 07:30 PM PST(California Time)Either In-Person or On-ZoomRegister below for one of the options!  					\n						\n				\n						\n					\n		\n								\n					\n		\n				\n						\n							\n					\n			\n							\n								\n					\n		\n								\n					\n		\n				\n						\n							\n					\n			\n							\n						\n				\n								\n				ADMISSION FREE. ALL ARE WELCOME. All programs are offered free\, as a community service by the Brahma Kumaris World Spiritual Organization.  Contributions from the heart are always welcomed to support the community and Zoom outreach initiative.
URL:https://bklosangeles.org/event/online-pm-english-raja-yoga-meditation-june-2026/
LOCATION:General Zoom Room
CATEGORIES:Cerritos,Los Angeles,Phoenix, AZ,Raja Yoga Meditation,San Diego
ORGANIZER;CN="BK Los Angeles Team":MAILTO:losangeles@us.brahmakumaris.org
END:VEVENT
BEGIN:VEVENT
DTSTART;TZID=America/Los_Angeles:20260601T194500
DTEND;TZID=America/Los_Angeles:20260601T210000
DTSTAMP:20260419T190553
CREATED:20260412T033601Z
LAST-MODIFIED:20260412T033711Z
UID:10557-1780343100-1780347600@bklosangeles.org
SUMMARY:Online: Tamil தமிழ் ஆன்லைன் ராஜயோக தியானம் - ஜூன் June 2026
DESCRIPTION:World Meditation HourLet’s Elevate the Planet’s Vibration					\n						\n				\n						\n					\n		\n								\n					\n		\n				\n						\n							\n					\n			\n							\n						\n				\n								\n																										\n						\n				\n				\n				\n								\n				Sunday\, December 15\, 202406:30 – 07:30 PM PST(California Time)Either In-Person or On-ZoomRegister below for one of the options!  					\n						\n				\n						\n					\n		\n								\n					\n		\n				\n						\n							\n					\n			\n							\n								\n					\n		\n								\n					\n		\n				\n						\n							\n					\n			\n							\n						\n				\n								\n				ADMISSION FREE. ALL ARE WELCOME. All programs are offered free\, as a community service by the Brahma Kumaris World Spiritual Organization.  Contributions from the heart are always welcomed to support the community and Zoom outreach initiative.
URL:https://bklosangeles.org/event/online-tamil-ry-june-2026/
LOCATION:General Zoom Room
CATEGORIES:Cerritos,Los Angeles,Phoenix, AZ,Raja Yoga Meditation,San Diego
ORGANIZER;CN="BK Los Angeles Team":MAILTO:losangeles@us.brahmakumaris.org
END:VEVENT
BEGIN:VEVENT
DTSTART;TZID=America/Los_Angeles:20260606T183000
DTEND;TZID=America/Los_Angeles:20260606T193000
DTSTAMP:20260419T190553
CREATED:20260412T035610Z
LAST-MODIFIED:20260412T035707Z
UID:10565-1780770600-1780774200@bklosangeles.org
SUMMARY:In-Person Los Angeles: Creative Healing Meditation - June 2026\, Session One
DESCRIPTION:World Meditation HourLet’s Elevate the Planet’s Vibration					\n						\n				\n						\n					\n		\n								\n					\n		\n				\n						\n							\n					\n			\n							\n						\n				\n								\n																										\n						\n				\n				\n				\n								\n				Sunday\, December 15\, 202406:30 – 07:30 PM PST(California Time)Either In-Person or On-ZoomRegister below for one of the options!  					\n						\n				\n						\n					\n		\n								\n					\n		\n				\n						\n							\n					\n			\n							\n								\n					\n		\n								\n					\n		\n				\n						\n							\n					\n			\n							\n						\n				\n								\n				ADMISSION FREE. ALL ARE WELCOME. All programs are offered free\, as a community service by the Brahma Kumaris World Spiritual Organization.  Contributions from the heart are always welcomed to support the community and Zoom outreach initiative.
URL:https://bklosangeles.org/event/in-person-los-angeles-creative-healing-meditation-june-2026-session-one/
LOCATION:Los Angeles Center – In-Person
CATEGORIES:Los Angeles,Raja Yoga Meditation
ORGANIZER;CN="BK Los Angeles Team":MAILTO:losangeles@us.brahmakumaris.org
END:VEVENT
BEGIN:VEVENT
DTSTART;TZID=America/Los_Angeles:20260613T143000
DTEND;TZID=America/Los_Angeles:20260613T160000
DTSTAMP:20260419T190553
CREATED:20260412T042133Z
LAST-MODIFIED:20260412T042509Z
UID:10578-1781361000-1781366400@bklosangeles.org
SUMMARY:In-Person Los Angeles: The Power of Peace - June 2026
DESCRIPTION:World Meditation HourLet’s Elevate the Planet’s Vibration					\n						\n				\n						\n					\n		\n								\n					\n		\n				\n						\n							\n					\n			\n							\n						\n				\n								\n																										\n						\n				\n				\n				\n								\n				Sunday\, December 15\, 202406:30 – 07:30 PM PST(California Time)Either In-Person or On-ZoomRegister below for one of the options!  					\n						\n				\n						\n					\n		\n								\n					\n		\n				\n						\n							\n					\n			\n							\n								\n					\n		\n								\n					\n		\n				\n						\n							\n					\n			\n							\n						\n				\n								\n				ADMISSION FREE. ALL ARE WELCOME. All programs are offered free\, as a community service by the Brahma Kumaris World Spiritual Organization.  Contributions from the heart are always welcomed to support the community and Zoom outreach initiative.
URL:https://bklosangeles.org/event/in-person-los-angeles-power-of-peace-june-2026/
LOCATION:Los Angeles Center – In-Person
CATEGORIES:Los Angeles,Raja Yoga Meditation
ORGANIZER;CN="BK Los Angeles Team":MAILTO:losangeles@us.brahmakumaris.org
END:VEVENT
BEGIN:VEVENT
DTSTART;TZID=America/Los_Angeles:20260620T183000
DTEND;TZID=America/Los_Angeles:20260620T193000
DTSTAMP:20260419T190553
CREATED:20260412T040405Z
LAST-MODIFIED:20260412T040508Z
UID:10571-1781980200-1781983800@bklosangeles.org
SUMMARY:In-Person Los Angeles: Creative Healing Meditation - June 2026\, Session Two
DESCRIPTION:World Meditation HourLet’s Elevate the Planet’s Vibration					\n						\n				\n						\n					\n		\n								\n					\n		\n				\n						\n							\n					\n			\n							\n						\n				\n								\n																										\n						\n				\n				\n				\n								\n				Sunday\, December 15\, 202406:30 – 07:30 PM PST(California Time)Either In-Person or On-ZoomRegister below for one of the options!  					\n						\n				\n						\n					\n		\n								\n					\n		\n				\n						\n							\n					\n			\n							\n								\n					\n		\n								\n					\n		\n				\n						\n							\n					\n			\n							\n						\n				\n								\n				ADMISSION FREE. ALL ARE WELCOME. All programs are offered free\, as a community service by the Brahma Kumaris World Spiritual Organization.  Contributions from the heart are always welcomed to support the community and Zoom outreach initiative.
URL:https://bklosangeles.org/event/in-person-los-angeles-creative-healing-meditation-june-2026-session-two/
LOCATION:Los Angeles Center – In-Person
CATEGORIES:Los Angeles,Raja Yoga Meditation
ORGANIZER;CN="BK Los Angeles Team":MAILTO:losangeles@us.brahmakumaris.org
END:VEVENT
BEGIN:VEVENT
DTSTART;TZID=America/Los_Angeles:20260621T183000
DTEND;TZID=America/Los_Angeles:20260621T193000
DTSTAMP:20260419T190553
CREATED:20260412T024936Z
LAST-MODIFIED:20260412T025043Z
UID:10532-1782066600-1782070200@bklosangeles.org
SUMMARY:Online:  World Meditation Hour - June 2026
DESCRIPTION:World Meditation HourLet’s Elevate the Planet’s Vibration					\n						\n				\n						\n					\n		\n								\n					\n		\n				\n						\n							\n					\n			\n							\n						\n				\n								\n																										\n						\n				\n				\n				\n								\n				Sunday\, December 15\, 202406:30 – 07:30 PM PST(California Time)Either In-Person or On-ZoomRegister below for one of the options!  					\n						\n				\n						\n					\n		\n								\n					\n		\n				\n						\n							\n					\n			\n							\n								\n					\n		\n								\n					\n		\n				\n						\n							\n					\n			\n							\n						\n				\n								\n				ADMISSION FREE. ALL ARE WELCOME. All programs are offered free\, as a community service by the Brahma Kumaris World Spiritual Organization.  Contributions from the heart are always welcomed to support the community and Zoom outreach initiative.
URL:https://bklosangeles.org/event/online-world-meditation-hour-june-2026/
LOCATION:General Zoom Room
CATEGORIES:Cerritos,Los Angeles,Phoenix, AZ,San Diego,Zoom Room
ORGANIZER;CN="BK Los Angeles Team":MAILTO:losangeles@us.brahmakumaris.org
END:VEVENT
END:VCALENDAR