BEGIN:VCALENDAR
VERSION:2.0
PRODID:-//Brahma Kumaris - Los Angeles - ECPv6.15.20//NONSGML v1.0//EN
CALSCALE:GREGORIAN
METHOD:PUBLISH
X-WR-CALNAME:Brahma Kumaris - Los Angeles
X-ORIGINAL-URL:https://bklosangeles.org
X-WR-CALDESC:Events for Brahma Kumaris - Los Angeles
REFRESH-INTERVAL;VALUE=DURATION:PT1H
X-Robots-Tag:noindex
X-PUBLISHED-TTL:PT1H
BEGIN:VTIMEZONE
TZID:America/Los_Angeles
BEGIN:DAYLIGHT
TZOFFSETFROM:-0800
TZOFFSETTO:-0700
TZNAME:PDT
DTSTART:20190310T100000
END:DAYLIGHT
BEGIN:STANDARD
TZOFFSETFROM:-0700
TZOFFSETTO:-0800
TZNAME:PST
DTSTART:20191103T090000
END:STANDARD
BEGIN:DAYLIGHT
TZOFFSETFROM:-0800
TZOFFSETTO:-0700
TZNAME:PDT
DTSTART:20200308T100000
END:DAYLIGHT
BEGIN:STANDARD
TZOFFSETFROM:-0700
TZOFFSETTO:-0800
TZNAME:PST
DTSTART:20201101T090000
END:STANDARD
BEGIN:DAYLIGHT
TZOFFSETFROM:-0800
TZOFFSETTO:-0700
TZNAME:PDT
DTSTART:20210314T100000
END:DAYLIGHT
BEGIN:STANDARD
TZOFFSETFROM:-0700
TZOFFSETTO:-0800
TZNAME:PST
DTSTART:20211107T090000
END:STANDARD
END:VTIMEZONE
BEGIN:VEVENT
DTSTART;TZID=America/Los_Angeles:20200730T190000
DTEND;TZID=America/Los_Angeles:20200730T200000
DTSTAMP:20260423T184806
CREATED:20200709T183422Z
LAST-MODIFIED:20200729T000206Z
UID:4233-1596135600-1596139200@bklosangeles.org
SUMMARY:Evening Meditation - Thursdays
DESCRIPTION:Introducción al Curso en línea de Meditación Raja Yoga 					\n						\n				\n						\n					\n		\n								\n					\n		\n				\n						\n							\n					\n			\n							\n						\n				\n								\n																										\n						\n				\n						\n					\n		\n								\n					\n		\n				\n						\n							\n					\n			\n							\n						\n				\n								\n				Week 1: May 07 and 09Week 2: May 14 and 16Week 3: May 21 and 23Week 4: May 28 and 3007:00 – 08:20 PM PST (California Time) En este curso introductorio exploraremos los fundamentos del Raja Yoga. Un Viaje de regreso a la experiencia de la paz\, la armonía y el poder interior a través de esta forma única de meditación. Introduciremos la identidad espiritual del alma y experimentaremos cómo nuestras acciones y elecciones diarias influyen en las principales funciones del alma: la mente\, el intelecto y las impresiones. Exploraremos el poder de los pensamientos y cómo pueden traer armonía y construir mejores relaciones en nuestras vidas. También descubriremos métodos para comprender y conectarnos con el amor incondicional de la Fuente. Cuando nos mantenemos llenos de este precioso regalo\, ¡tenemos mucho más para dar a los demás! No se requiere ningún requisito previo.
URL:https://bklosangeles.org/event/evening-meditation-2020-07-30/
LOCATION:General Zoom Room
CATEGORIES:Seal Beach
ORGANIZER;CN="BK Seal Beach Team":MAILTO:sealbeach@us.brahmakumaris.org
END:VEVENT
BEGIN:VEVENT
DTSTART;TZID=America/Los_Angeles:20200728T190000
DTEND;TZID=America/Los_Angeles:20200728T203000
DTSTAMP:20260423T184806
CREATED:20200708T061548Z
LAST-MODIFIED:20200728T235359Z
UID:4935-1595962800-1595968200@bklosangeles.org
SUMMARY:Language of God - Tuesday Evenings
DESCRIPTION:Introducción al Curso en línea de Meditación Raja Yoga 					\n						\n				\n						\n					\n		\n								\n					\n		\n				\n						\n							\n					\n			\n							\n						\n				\n								\n																										\n						\n				\n						\n					\n		\n								\n					\n		\n				\n						\n							\n					\n			\n							\n						\n				\n								\n				Week 1: May 07 and 09Week 2: May 14 and 16Week 3: May 21 and 23Week 4: May 28 and 3007:00 – 08:20 PM PST (California Time) En este curso introductorio exploraremos los fundamentos del Raja Yoga. Un Viaje de regreso a la experiencia de la paz\, la armonía y el poder interior a través de esta forma única de meditación. Introduciremos la identidad espiritual del alma y experimentaremos cómo nuestras acciones y elecciones diarias influyen en las principales funciones del alma: la mente\, el intelecto y las impresiones. Exploraremos el poder de los pensamientos y cómo pueden traer armonía y construir mejores relaciones en nuestras vidas. También descubriremos métodos para comprender y conectarnos con el amor incondicional de la Fuente. Cuando nos mantenemos llenos de este precioso regalo\, ¡tenemos mucho más para dar a los demás! No se requiere ningún requisito previo.
URL:https://bklosangeles.org/event/language-of-god-tuesday-evening-0728/
LOCATION:General Zoom Room
CATEGORIES:Seal Beach
ORGANIZER;CN="BK Seal Beach Team":MAILTO:sealbeach@us.brahmakumaris.org
END:VEVENT
BEGIN:VEVENT
DTSTART;TZID=America/Los_Angeles:20200726T190000
DTEND;TZID=America/Los_Angeles:20200726T203000
DTSTAMP:20260423T184806
CREATED:20200708T063110Z
LAST-MODIFIED:20200728T225657Z
UID:4201-1595790000-1595795400@bklosangeles.org
SUMMARY:The Art of Listening One: How to Actively Listen
DESCRIPTION:Introducción al Curso en línea de Meditación Raja Yoga 					\n						\n				\n						\n					\n		\n								\n					\n		\n				\n						\n							\n					\n			\n							\n						\n				\n								\n																										\n						\n				\n						\n					\n		\n								\n					\n		\n				\n						\n							\n					\n			\n							\n						\n				\n								\n				Week 1: May 07 and 09Week 2: May 14 and 16Week 3: May 21 and 23Week 4: May 28 and 3007:00 – 08:20 PM PST (California Time) En este curso introductorio exploraremos los fundamentos del Raja Yoga. Un Viaje de regreso a la experiencia de la paz\, la armonía y el poder interior a través de esta forma única de meditación. Introduciremos la identidad espiritual del alma y experimentaremos cómo nuestras acciones y elecciones diarias influyen en las principales funciones del alma: la mente\, el intelecto y las impresiones. Exploraremos el poder de los pensamientos y cómo pueden traer armonía y construir mejores relaciones en nuestras vidas. También descubriremos métodos para comprender y conectarnos con el amor incondicional de la Fuente. Cuando nos mantenemos llenos de este precioso regalo\, ¡tenemos mucho más para dar a los demás! No se requiere ningún requisito previo.
URL:https://bklosangeles.org/event/insightful-dialogue-series-the-art-of-listening-one/
LOCATION:General Zoom Room
CATEGORIES:Insightful Dialogue Series,Seal Beach
ORGANIZER;CN="BK Seal Beach Team":MAILTO:sealbeach@us.brahmakumaris.org
END:VEVENT
BEGIN:VEVENT
DTSTART;TZID=America/Los_Angeles:20200726T090000
DTEND;TZID=America/Los_Angeles:20200726T100000
DTSTAMP:20260423T184806
CREATED:20200708T061548Z
LAST-MODIFIED:20200729T000757Z
UID:4942-1595754000-1595757600@bklosangeles.org
SUMMARY:Language of God - Saturday Mornings
DESCRIPTION:Introducción al Curso en línea de Meditación Raja Yoga 					\n						\n				\n						\n					\n		\n								\n					\n		\n				\n						\n							\n					\n			\n							\n						\n				\n								\n																										\n						\n				\n						\n					\n		\n								\n					\n		\n				\n						\n							\n					\n			\n							\n						\n				\n								\n				Week 1: May 07 and 09Week 2: May 14 and 16Week 3: May 21 and 23Week 4: May 28 and 3007:00 – 08:20 PM PST (California Time) En este curso introductorio exploraremos los fundamentos del Raja Yoga. Un Viaje de regreso a la experiencia de la paz\, la armonía y el poder interior a través de esta forma única de meditación. Introduciremos la identidad espiritual del alma y experimentaremos cómo nuestras acciones y elecciones diarias influyen en las principales funciones del alma: la mente\, el intelecto y las impresiones. Exploraremos el poder de los pensamientos y cómo pueden traer armonía y construir mejores relaciones en nuestras vidas. También descubriremos métodos para comprender y conectarnos con el amor incondicional de la Fuente. Cuando nos mantenemos llenos de este precioso regalo\, ¡tenemos mucho más para dar a los demás! No se requiere ningún requisito previo.
URL:https://bklosangeles.org/event/language-of-god-saturday-mornings-07-26/
LOCATION:General Zoom Room
CATEGORIES:Seal Beach
ORGANIZER;CN="BK Seal Beach Team":MAILTO:sealbeach@us.brahmakumaris.org
END:VEVENT
BEGIN:VEVENT
DTSTART;TZID=America/Los_Angeles:20200726T070000
DTEND;TZID=America/Los_Angeles:20200726T083000
DTSTAMP:20260423T184806
CREATED:20200708T061548Z
LAST-MODIFIED:20200728T223551Z
UID:4191-1595746800-1595752200@bklosangeles.org
SUMMARY:Language of God - Sunday Mornings
DESCRIPTION:Introducción al Curso en línea de Meditación Raja Yoga 					\n						\n				\n						\n					\n		\n								\n					\n		\n				\n						\n							\n					\n			\n							\n						\n				\n								\n																										\n						\n				\n						\n					\n		\n								\n					\n		\n				\n						\n							\n					\n			\n							\n						\n				\n								\n				Week 1: May 07 and 09Week 2: May 14 and 16Week 3: May 21 and 23Week 4: May 28 and 3007:00 – 08:20 PM PST (California Time) En este curso introductorio exploraremos los fundamentos del Raja Yoga. Un Viaje de regreso a la experiencia de la paz\, la armonía y el poder interior a través de esta forma única de meditación. Introduciremos la identidad espiritual del alma y experimentaremos cómo nuestras acciones y elecciones diarias influyen en las principales funciones del alma: la mente\, el intelecto y las impresiones. Exploraremos el poder de los pensamientos y cómo pueden traer armonía y construir mejores relaciones en nuestras vidas. También descubriremos métodos para comprender y conectarnos con el amor incondicional de la Fuente. Cuando nos mantenemos llenos de este precioso regalo\, ¡tenemos mucho más para dar a los demás! No se requiere ningún requisito previo.
URL:https://bklosangeles.org/event/language-of-god-sunday-mornings-07-26/
LOCATION:General Zoom Room
CATEGORIES:Seal Beach
ORGANIZER;CN="BK Seal Beach Team":MAILTO:sealbeach@us.brahmakumaris.org
END:VEVENT
BEGIN:VEVENT
DTSTART;TZID=America/Los_Angeles:20200725T170000
DTEND;TZID=America/Los_Angeles:20200725T193000
DTSTAMP:20260423T184806
CREATED:20200626T195705Z
LAST-MODIFIED:20200811T170437Z
UID:3990-1595696400-1595705400@bklosangeles.org
SUMMARY:A New Consciousness\, A New Life
DESCRIPTION:Introducción al Curso en línea de Meditación Raja Yoga 					\n						\n				\n						\n					\n		\n								\n					\n		\n				\n						\n							\n					\n			\n							\n						\n				\n								\n																										\n						\n				\n						\n					\n		\n								\n					\n		\n				\n						\n							\n					\n			\n							\n						\n				\n								\n				Week 1: May 07 and 09Week 2: May 14 and 16Week 3: May 21 and 23Week 4: May 28 and 3007:00 – 08:20 PM PST (California Time) En este curso introductorio exploraremos los fundamentos del Raja Yoga. Un Viaje de regreso a la experiencia de la paz\, la armonía y el poder interior a través de esta forma única de meditación. Introduciremos la identidad espiritual del alma y experimentaremos cómo nuestras acciones y elecciones diarias influyen en las principales funciones del alma: la mente\, el intelecto y las impresiones. Exploraremos el poder de los pensamientos y cómo pueden traer armonía y construir mejores relaciones en nuestras vidas. También descubriremos métodos para comprender y conectarnos con el amor incondicional de la Fuente. Cuando nos mantenemos llenos de este precioso regalo\, ¡tenemos mucho más para dar a los demás! No se requiere ningún requisito previo.
URL:https://bklosangeles.org/event/insightful-dialogue-series-a-new-consciousness-a-new-life/
LOCATION:General Zoom Room
CATEGORIES:Insightful Dialogue Series,Los Angeles
ORGANIZER;CN="BK Los Angeles Team":MAILTO:losangeles@us.brahmakumaris.org
END:VEVENT
BEGIN:VEVENT
DTSTART;TZID=America/Los_Angeles:20200723T190000
DTEND;TZID=America/Los_Angeles:20200723T200000
DTSTAMP:20260423T184806
CREATED:20200709T183422Z
LAST-MODIFIED:20200713T112252Z
UID:4232-1595530800-1595534400@bklosangeles.org
SUMMARY:Evening Meditation
DESCRIPTION:Introducción al Curso en línea de Meditación Raja Yoga 					\n						\n				\n						\n					\n		\n								\n					\n		\n				\n						\n							\n					\n			\n							\n						\n				\n								\n																										\n						\n				\n						\n					\n		\n								\n					\n		\n				\n						\n							\n					\n			\n							\n						\n				\n								\n				Week 1: May 07 and 09Week 2: May 14 and 16Week 3: May 21 and 23Week 4: May 28 and 3007:00 – 08:20 PM PST (California Time) En este curso introductorio exploraremos los fundamentos del Raja Yoga. Un Viaje de regreso a la experiencia de la paz\, la armonía y el poder interior a través de esta forma única de meditación. Introduciremos la identidad espiritual del alma y experimentaremos cómo nuestras acciones y elecciones diarias influyen en las principales funciones del alma: la mente\, el intelecto y las impresiones. Exploraremos el poder de los pensamientos y cómo pueden traer armonía y construir mejores relaciones en nuestras vidas. También descubriremos métodos para comprender y conectarnos con el amor incondicional de la Fuente. Cuando nos mantenemos llenos de este precioso regalo\, ¡tenemos mucho más para dar a los demás! No se requiere ningún requisito previo.
URL:https://bklosangeles.org/event/evening-meditation-2020-07-23/
LOCATION:General Zoom Room
CATEGORIES:Seal Beach
ORGANIZER;CN="BK Seal Beach Team":MAILTO:sealbeach@us.brahmakumaris.org
END:VEVENT
BEGIN:VEVENT
DTSTART;TZID=America/Los_Angeles:20200719T190000
DTEND;TZID=America/Los_Angeles:20200719T203000
DTSTAMP:20260423T184806
CREATED:20200708T063110Z
LAST-MODIFIED:20200728T230752Z
UID:4200-1595185200-1595190600@bklosangeles.org
SUMMARY:Appreciation and Encouragement: How to give true appreciation
DESCRIPTION:Introducción al Curso en línea de Meditación Raja Yoga 					\n						\n				\n						\n					\n		\n								\n					\n		\n				\n						\n							\n					\n			\n							\n						\n				\n								\n																										\n						\n				\n						\n					\n		\n								\n					\n		\n				\n						\n							\n					\n			\n							\n						\n				\n								\n				Week 1: May 07 and 09Week 2: May 14 and 16Week 3: May 21 and 23Week 4: May 28 and 3007:00 – 08:20 PM PST (California Time) En este curso introductorio exploraremos los fundamentos del Raja Yoga. Un Viaje de regreso a la experiencia de la paz\, la armonía y el poder interior a través de esta forma única de meditación. Introduciremos la identidad espiritual del alma y experimentaremos cómo nuestras acciones y elecciones diarias influyen en las principales funciones del alma: la mente\, el intelecto y las impresiones. Exploraremos el poder de los pensamientos y cómo pueden traer armonía y construir mejores relaciones en nuestras vidas. También descubriremos métodos para comprender y conectarnos con el amor incondicional de la Fuente. Cuando nos mantenemos llenos de este precioso regalo\, ¡tenemos mucho más para dar a los demás! No se requiere ningún requisito previo.
URL:https://bklosangeles.org/event/insightful-dialogue-series-appreciation-encouragement/
LOCATION:General Zoom Room
CATEGORIES:Seal Beach
ORGANIZER;CN="BK Seal Beach Team":MAILTO:sealbeach@us.brahmakumaris.org
END:VEVENT
BEGIN:VEVENT
DTSTART;TZID=America/Los_Angeles:20200719T183000
DTEND;TZID=America/Los_Angeles:20200719T193000
DTSTAMP:20260423T184806
CREATED:20200626T195435Z
LAST-MODIFIED:20200811T170529Z
UID:3987-1595183400-1595187000@bklosangeles.org
SUMMARY:Online World Peace Meditation
DESCRIPTION:Introducción al Curso en línea de Meditación Raja Yoga 					\n						\n				\n						\n					\n		\n								\n					\n		\n				\n						\n							\n					\n			\n							\n						\n				\n								\n																										\n						\n				\n						\n					\n		\n								\n					\n		\n				\n						\n							\n					\n			\n							\n						\n				\n								\n				Week 1: May 07 and 09Week 2: May 14 and 16Week 3: May 21 and 23Week 4: May 28 and 3007:00 – 08:20 PM PST (California Time) En este curso introductorio exploraremos los fundamentos del Raja Yoga. Un Viaje de regreso a la experiencia de la paz\, la armonía y el poder interior a través de esta forma única de meditación. Introduciremos la identidad espiritual del alma y experimentaremos cómo nuestras acciones y elecciones diarias influyen en las principales funciones del alma: la mente\, el intelecto y las impresiones. Exploraremos el poder de los pensamientos y cómo pueden traer armonía y construir mejores relaciones en nuestras vidas. También descubriremos métodos para comprender y conectarnos con el amor incondicional de la Fuente. Cuando nos mantenemos llenos de este precioso regalo\, ¡tenemos mucho más para dar a los demás! No se requiere ningún requisito previo.
URL:https://bklosangeles.org/event/online-world-peace-meditation/
LOCATION:General Zoom Room
CATEGORIES:Los Angeles,Raja Yoga Meditation
ORGANIZER;CN="BK Los Angeles Team":MAILTO:losangeles@us.brahmakumaris.org
END:VEVENT
BEGIN:VEVENT
DTSTART;TZID=America/Los_Angeles:20200718T170000
DTEND;TZID=America/Los_Angeles:20200718T193000
DTSTAMP:20260423T184806
CREATED:20200626T195148Z
LAST-MODIFIED:20200811T170611Z
UID:3984-1595091600-1595100600@bklosangeles.org
SUMMARY:Love & Forgiveness
DESCRIPTION:Introducción al Curso en línea de Meditación Raja Yoga 					\n						\n				\n						\n					\n		\n								\n					\n		\n				\n						\n							\n					\n			\n							\n						\n				\n								\n																										\n						\n				\n						\n					\n		\n								\n					\n		\n				\n						\n							\n					\n			\n							\n						\n				\n								\n				Week 1: May 07 and 09Week 2: May 14 and 16Week 3: May 21 and 23Week 4: May 28 and 3007:00 – 08:20 PM PST (California Time) En este curso introductorio exploraremos los fundamentos del Raja Yoga. Un Viaje de regreso a la experiencia de la paz\, la armonía y el poder interior a través de esta forma única de meditación. Introduciremos la identidad espiritual del alma y experimentaremos cómo nuestras acciones y elecciones diarias influyen en las principales funciones del alma: la mente\, el intelecto y las impresiones. Exploraremos el poder de los pensamientos y cómo pueden traer armonía y construir mejores relaciones en nuestras vidas. También descubriremos métodos para comprender y conectarnos con el amor incondicional de la Fuente. Cuando nos mantenemos llenos de este precioso regalo\, ¡tenemos mucho más para dar a los demás! No se requiere ningún requisito previo.
URL:https://bklosangeles.org/event/insightful-dialogue-series-love-forgiveness/
LOCATION:General Zoom Room
CATEGORIES:Insightful Dialogue Series,Los Angeles
ORGANIZER;CN="BK Los Angeles Team":MAILTO:losangeles@us.brahmakumaris.org
END:VEVENT
BEGIN:VEVENT
DTSTART;TZID=America/Los_Angeles:20200716T190000
DTEND;TZID=America/Los_Angeles:20200716T200000
DTSTAMP:20260423T184806
CREATED:20200709T183422Z
LAST-MODIFIED:20200713T114432Z
UID:4231-1594926000-1594929600@bklosangeles.org
SUMMARY:Evening Meditation
DESCRIPTION:Introducción al Curso en línea de Meditación Raja Yoga 					\n						\n				\n						\n					\n		\n								\n					\n		\n				\n						\n							\n					\n			\n							\n						\n				\n								\n																										\n						\n				\n						\n					\n		\n								\n					\n		\n				\n						\n							\n					\n			\n							\n						\n				\n								\n				Week 1: May 07 and 09Week 2: May 14 and 16Week 3: May 21 and 23Week 4: May 28 and 3007:00 – 08:20 PM PST (California Time) En este curso introductorio exploraremos los fundamentos del Raja Yoga. Un Viaje de regreso a la experiencia de la paz\, la armonía y el poder interior a través de esta forma única de meditación. Introduciremos la identidad espiritual del alma y experimentaremos cómo nuestras acciones y elecciones diarias influyen en las principales funciones del alma: la mente\, el intelecto y las impresiones. Exploraremos el poder de los pensamientos y cómo pueden traer armonía y construir mejores relaciones en nuestras vidas. También descubriremos métodos para comprender y conectarnos con el amor incondicional de la Fuente. Cuando nos mantenemos llenos de este precioso regalo\, ¡tenemos mucho más para dar a los demás! No se requiere ningún requisito previo.
URL:https://bklosangeles.org/event/evening-meditation-2020-07-16/
LOCATION:General Zoom Room
CATEGORIES:Seal Beach
ORGANIZER;CN="BK Seal Beach Team":MAILTO:sealbeach@us.brahmakumaris.org
END:VEVENT
BEGIN:VEVENT
DTSTART;TZID=America/Los_Angeles:20200712T190000
DTEND;TZID=America/Los_Angeles:20200712T203000
DTSTAMP:20260423T184807
CREATED:20200708T063110Z
LAST-MODIFIED:20200728T231749Z
UID:4198-1594580400-1594585800@bklosangeles.org
SUMMARY:Choosing Love and Peace
DESCRIPTION:Introducción al Curso en línea de Meditación Raja Yoga 					\n						\n				\n						\n					\n		\n								\n					\n		\n				\n						\n							\n					\n			\n							\n						\n				\n								\n																										\n						\n				\n						\n					\n		\n								\n					\n		\n				\n						\n							\n					\n			\n							\n						\n				\n								\n				Week 1: May 07 and 09Week 2: May 14 and 16Week 3: May 21 and 23Week 4: May 28 and 3007:00 – 08:20 PM PST (California Time) En este curso introductorio exploraremos los fundamentos del Raja Yoga. Un Viaje de regreso a la experiencia de la paz\, la armonía y el poder interior a través de esta forma única de meditación. Introduciremos la identidad espiritual del alma y experimentaremos cómo nuestras acciones y elecciones diarias influyen en las principales funciones del alma: la mente\, el intelecto y las impresiones. Exploraremos el poder de los pensamientos y cómo pueden traer armonía y construir mejores relaciones en nuestras vidas. También descubriremos métodos para comprender y conectarnos con el amor incondicional de la Fuente. Cuando nos mantenemos llenos de este precioso regalo\, ¡tenemos mucho más para dar a los demás! No se requiere ningún requisito previo.
URL:https://bklosangeles.org/event/insightful-dialogue-series-choosing-love-peace/
LOCATION:General Zoom Room
CATEGORIES:Insightful Dialogue Series,Seal Beach
ORGANIZER;CN="BK Seal Beach Team":MAILTO:sealbeach@us.brahmakumaris.org
END:VEVENT
BEGIN:VEVENT
DTSTART;TZID=America/Los_Angeles:20200711T160000
DTEND;TZID=America/Los_Angeles:20200711T183000
DTSTAMP:20260423T184807
CREATED:20200626T194853Z
LAST-MODIFIED:20200811T170736Z
UID:3981-1594483200-1594492200@bklosangeles.org
SUMMARY:Being Light and Easy in Times of Chaos
DESCRIPTION:Introducción al Curso en línea de Meditación Raja Yoga 					\n						\n				\n						\n					\n		\n								\n					\n		\n				\n						\n							\n					\n			\n							\n						\n				\n								\n																										\n						\n				\n						\n					\n		\n								\n					\n		\n				\n						\n							\n					\n			\n							\n						\n				\n								\n				Week 1: May 07 and 09Week 2: May 14 and 16Week 3: May 21 and 23Week 4: May 28 and 3007:00 – 08:20 PM PST (California Time) En este curso introductorio exploraremos los fundamentos del Raja Yoga. Un Viaje de regreso a la experiencia de la paz\, la armonía y el poder interior a través de esta forma única de meditación. Introduciremos la identidad espiritual del alma y experimentaremos cómo nuestras acciones y elecciones diarias influyen en las principales funciones del alma: la mente\, el intelecto y las impresiones. Exploraremos el poder de los pensamientos y cómo pueden traer armonía y construir mejores relaciones en nuestras vidas. También descubriremos métodos para comprender y conectarnos con el amor incondicional de la Fuente. Cuando nos mantenemos llenos de este precioso regalo\, ¡tenemos mucho más para dar a los demás! No se requiere ningún requisito previo.
URL:https://bklosangeles.org/event/insightful-dialogue-series-light-easy-times-chaos/
LOCATION:General Zoom Room
CATEGORIES:Insightful Dialogue Series,Los Angeles
ORGANIZER;CN="BK Los Angeles Team":MAILTO:losangeles@us.brahmakumaris.org
END:VEVENT
BEGIN:VEVENT
DTSTART;TZID=America/Los_Angeles:20200706T194500
DTEND;TZID=America/Los_Angeles:20200706T204500
DTSTAMP:20260423T184807
CREATED:20200626T194521Z
LAST-MODIFIED:20200811T171126Z
UID:3978-1594064700-1594068300@bklosangeles.org
SUMMARY:Online Raja Yoga Meditation - RY01
DESCRIPTION:Introducción al Curso en línea de Meditación Raja Yoga 					\n						\n				\n						\n					\n		\n								\n					\n		\n				\n						\n							\n					\n			\n							\n						\n				\n								\n																										\n						\n				\n						\n					\n		\n								\n					\n		\n				\n						\n							\n					\n			\n							\n						\n				\n								\n				Week 1: May 07 and 09Week 2: May 14 and 16Week 3: May 21 and 23Week 4: May 28 and 3007:00 – 08:20 PM PST (California Time) En este curso introductorio exploraremos los fundamentos del Raja Yoga. Un Viaje de regreso a la experiencia de la paz\, la armonía y el poder interior a través de esta forma única de meditación. Introduciremos la identidad espiritual del alma y experimentaremos cómo nuestras acciones y elecciones diarias influyen en las principales funciones del alma: la mente\, el intelecto y las impresiones. Exploraremos el poder de los pensamientos y cómo pueden traer armonía y construir mejores relaciones en nuestras vidas. También descubriremos métodos para comprender y conectarnos con el amor incondicional de la Fuente. Cuando nos mantenemos llenos de este precioso regalo\, ¡tenemos mucho más para dar a los demás! No se requiere ningún requisito previo.
URL:https://bklosangeles.org/event/online-raja-yoga-meditation-ry01/
LOCATION:General Zoom Room
CATEGORIES:Los Angeles,Raja Yoga Meditation
ORGANIZER;CN="BK Los Angeles Team":MAILTO:losangeles@us.brahmakumaris.org
END:VEVENT
BEGIN:VEVENT
DTSTART;TZID=America/Los_Angeles:20200702T190000
DTEND;TZID=America/Los_Angeles:20200702T200000
DTSTAMP:20260423T184807
CREATED:20200709T183422Z
LAST-MODIFIED:20200715T004739Z
UID:4228-1593716400-1593720000@bklosangeles.org
SUMMARY:Thursday Evening Meditation
DESCRIPTION:Introducción al Curso en línea de Meditación Raja Yoga 					\n						\n				\n						\n					\n		\n								\n					\n		\n				\n						\n							\n					\n			\n							\n						\n				\n								\n																										\n						\n				\n						\n					\n		\n								\n					\n		\n				\n						\n							\n					\n			\n							\n						\n				\n								\n				Week 1: May 07 and 09Week 2: May 14 and 16Week 3: May 21 and 23Week 4: May 28 and 3007:00 – 08:20 PM PST (California Time) En este curso introductorio exploraremos los fundamentos del Raja Yoga. Un Viaje de regreso a la experiencia de la paz\, la armonía y el poder interior a través de esta forma única de meditación. Introduciremos la identidad espiritual del alma y experimentaremos cómo nuestras acciones y elecciones diarias influyen en las principales funciones del alma: la mente\, el intelecto y las impresiones. Exploraremos el poder de los pensamientos y cómo pueden traer armonía y construir mejores relaciones en nuestras vidas. También descubriremos métodos para comprender y conectarnos con el amor incondicional de la Fuente. Cuando nos mantenemos llenos de este precioso regalo\, ¡tenemos mucho más para dar a los demás! No se requiere ningún requisito previo.
URL:https://bklosangeles.org/event/thursday-evening-meditation-07-02/
LOCATION:General Zoom Room
CATEGORIES:Seal Beach
ORGANIZER;CN="BK Seal Beach Team":MAILTO:sealbeach@us.brahmakumaris.org
END:VEVENT
END:VCALENDAR