BEGIN:VCALENDAR
VERSION:2.0
PRODID:-//Brahma Kumaris - Los Angeles - ECPv6.15.20//NONSGML v1.0//EN
CALSCALE:GREGORIAN
METHOD:PUBLISH
X-ORIGINAL-URL:https://bklosangeles.org
X-WR-CALDESC:Events for Brahma Kumaris - Los Angeles
REFRESH-INTERVAL;VALUE=DURATION:PT1H
X-Robots-Tag:noindex
X-PUBLISHED-TTL:PT1H
BEGIN:VTIMEZONE
TZID:America/Los_Angeles
BEGIN:DAYLIGHT
TZOFFSETFROM:-0800
TZOFFSETTO:-0700
TZNAME:PDT
DTSTART:20210314T100000
END:DAYLIGHT
BEGIN:STANDARD
TZOFFSETFROM:-0700
TZOFFSETTO:-0800
TZNAME:PST
DTSTART:20211107T090000
END:STANDARD
BEGIN:DAYLIGHT
TZOFFSETFROM:-0800
TZOFFSETTO:-0700
TZNAME:PDT
DTSTART:20220313T100000
END:DAYLIGHT
BEGIN:STANDARD
TZOFFSETFROM:-0700
TZOFFSETTO:-0800
TZNAME:PST
DTSTART:20221106T090000
END:STANDARD
BEGIN:DAYLIGHT
TZOFFSETFROM:-0800
TZOFFSETTO:-0700
TZNAME:PDT
DTSTART:20230312T100000
END:DAYLIGHT
BEGIN:STANDARD
TZOFFSETFROM:-0700
TZOFFSETTO:-0800
TZNAME:PST
DTSTART:20231105T090000
END:STANDARD
END:VTIMEZONE
BEGIN:VEVENT
DTSTART;TZID=America/Los_Angeles:20221003T173000
DTEND;TZID=America/Los_Angeles:20221003T184500
DTSTAMP:20260425T162552
CREATED:20220922T211856Z
LAST-MODIFIED:20220922T212013Z
UID:7106-1664818200-1664822700@bklosangeles.org
SUMMARY:Hindi हिंदी ऑनलाइन राज योग ध्यान – अक्टूबर  October 2022
DESCRIPTION:In-Person Open HouseFree of ChargeAll are Welcome What to expect:* Games for all ages* Guided meditation* Peaceful atmosphere* Light refreshmentsCome as you are.  Leave refreshed and empowered. Sunday\, May 31\, 202610:00 AM – 12:00 PMBrahma Kumaris Meditation Place9393 Activity Road\, Suite F/GSan Diego\, CA 92126 Please RSVP. All events are offered in the spirit of service by the Brahma Kumaris\, a nonprofit organization. Donations are gratefully accepted.
URL:https://bklosangeles.org/event/h-online-ry-meditation-october-2022/
LOCATION:General Zoom Room
CATEGORIES:Los Angeles,Raja Yoga Meditation
ORGANIZER;CN="BK Los Angeles Team":MAILTO:losangeles@us.brahmakumaris.org
END:VEVENT
BEGIN:VEVENT
DTSTART;TZID=America/Los_Angeles:20221003T194500
DTEND;TZID=America/Los_Angeles:20221003T210000
DTSTAMP:20260425T162552
CREATED:20220922T191555Z
LAST-MODIFIED:20220922T191713Z
UID:7088-1664826300-1664830800@bklosangeles.org
SUMMARY:Tamil தமிழ் ஆன்லைன் ராஜயோக தியானம் - அக்டோபர் October 2022
DESCRIPTION:In-Person Open HouseFree of ChargeAll are Welcome What to expect:* Games for all ages* Guided meditation* Peaceful atmosphere* Light refreshmentsCome as you are.  Leave refreshed and empowered. Sunday\, May 31\, 202610:00 AM – 12:00 PMBrahma Kumaris Meditation Place9393 Activity Road\, Suite F/GSan Diego\, CA 92126 Please RSVP. All events are offered in the spirit of service by the Brahma Kumaris\, a nonprofit organization. Donations are gratefully accepted.
URL:https://bklosangeles.org/event/t-online-ry-meditation-october-2022/
LOCATION:General Zoom Room
CATEGORIES:Los Angeles,Raja Yoga Meditation
ORGANIZER;CN="BK Los Angeles Team":MAILTO:losangeles@us.brahmakumaris.org
END:VEVENT
BEGIN:VEVENT
DTSTART;TZID=America/Los_Angeles:20221004T190000
DTEND;TZID=America/Los_Angeles:20221004T202000
DTSTAMP:20260425T162552
CREATED:20220922T215242Z
LAST-MODIFIED:20220922T215351Z
UID:7121-1664910000-1664914800@bklosangeles.org
SUMMARY:Meditación Raja Yoga Online en Español - Octubre 2022
DESCRIPTION:In-Person Open HouseFree of ChargeAll are Welcome What to expect:* Games for all ages* Guided meditation* Peaceful atmosphere* Light refreshmentsCome as you are.  Leave refreshed and empowered. Sunday\, May 31\, 202610:00 AM – 12:00 PMBrahma Kumaris Meditation Place9393 Activity Road\, Suite F/GSan Diego\, CA 92126 Please RSVP. All events are offered in the spirit of service by the Brahma Kumaris\, a nonprofit organization. Donations are gratefully accepted.
URL:https://bklosangeles.org/event/meditacion-raja-yoga-online-en-espanol-octubre-2022/
LOCATION:General Zoom Room
CATEGORIES:Los Angeles,Raja Yoga Meditation
ORGANIZER;CN="BK Los Angeles Team":MAILTO:losangeles@us.brahmakumaris.org
END:VEVENT
BEGIN:VEVENT
DTSTART;TZID=America/Los_Angeles:20221005T194500
DTEND;TZID=America/Los_Angeles:20221005T210000
DTSTAMP:20260425T162552
CREATED:20211219T223055Z
LAST-MODIFIED:20220907T012315Z
UID:7057-1664999100-1665003600@bklosangeles.org
SUMMARY:English Online Raja Yoga Meditation - October 2022
DESCRIPTION:In-Person Open HouseFree of ChargeAll are Welcome What to expect:* Games for all ages* Guided meditation* Peaceful atmosphere* Light refreshmentsCome as you are.  Leave refreshed and empowered. Sunday\, May 31\, 202610:00 AM – 12:00 PMBrahma Kumaris Meditation Place9393 Activity Road\, Suite F/GSan Diego\, CA 92126 Please RSVP. All events are offered in the spirit of service by the Brahma Kumaris\, a nonprofit organization. Donations are gratefully accepted.
URL:https://bklosangeles.org/event/english-online-raja-yoga-meditation-october-2022/
LOCATION:General Zoom Room
CATEGORIES:Los Angeles,Raja Yoga Meditation
ORGANIZER;CN="BK Los Angeles Team":MAILTO:losangeles@us.brahmakumaris.org
END:VEVENT
END:VCALENDAR