BEGIN:VCALENDAR
VERSION:2.0
PRODID:-//Brahma Kumaris - Los Angeles - ECPv6.15.20//NONSGML v1.0//EN
CALSCALE:GREGORIAN
METHOD:PUBLISH
X-WR-CALNAME:Brahma Kumaris - Los Angeles
X-ORIGINAL-URL:https://bklosangeles.org
X-WR-CALDESC:Events for Brahma Kumaris - Los Angeles
REFRESH-INTERVAL;VALUE=DURATION:PT1H
X-Robots-Tag:noindex
X-PUBLISHED-TTL:PT1H
BEGIN:VTIMEZONE
TZID:America/Los_Angeles
BEGIN:DAYLIGHT
TZOFFSETFROM:-0800
TZOFFSETTO:-0700
TZNAME:PDT
DTSTART:20220313T100000
END:DAYLIGHT
BEGIN:STANDARD
TZOFFSETFROM:-0700
TZOFFSETTO:-0800
TZNAME:PST
DTSTART:20221106T090000
END:STANDARD
BEGIN:DAYLIGHT
TZOFFSETFROM:-0800
TZOFFSETTO:-0700
TZNAME:PDT
DTSTART:20230312T100000
END:DAYLIGHT
BEGIN:STANDARD
TZOFFSETFROM:-0700
TZOFFSETTO:-0800
TZNAME:PST
DTSTART:20231105T090000
END:STANDARD
BEGIN:DAYLIGHT
TZOFFSETFROM:-0800
TZOFFSETTO:-0700
TZNAME:PDT
DTSTART:20240310T100000
END:DAYLIGHT
BEGIN:STANDARD
TZOFFSETFROM:-0700
TZOFFSETTO:-0800
TZNAME:PST
DTSTART:20241103T090000
END:STANDARD
END:VTIMEZONE
BEGIN:VEVENT
DTSTART;TZID=America/Los_Angeles:20230403T194500
DTEND;TZID=America/Los_Angeles:20230403T210000
DTSTAMP:20260423T125903
CREATED:20230323T171934Z
LAST-MODIFIED:20230323T172215Z
UID:7351-1680551100-1680555600@bklosangeles.org
SUMMARY:No Hindi Online Raja Yoga Meditation Course in April 2023
DESCRIPTION:Nourish Your Body and Soul with YogaIn-Person Weekend Yoga WorkshopFree of ChargeAll are Welcome					\n						\n				\n						\n					\n		\n								\n					\n		\n				\n						\n							\n					\n			\n							\n						\n				\n								\n																										\n						\n				\n						\n					\n		\n								\n					\n		\n				\n						\n							\n					\n			\n							\n						\n				\n								\n				Join us for a rejuvenating yoga session designed to align your body and soul. Connect with your breath\, release tension\, and flow with intention.Please bring your yoga mat\, water bottle and towel.Saturday\, May 16\, 20269:00 – 10:00 AMBrahma Kumaris Meditation Place9393 Activity Road\, Suite F/GSan Diego\, CA 92126 Please RSVP as Limited space is Available. All events are offered in the spirit of service by the Brahma Kumaris\, a nonprofit organization. Donations are gratefully accepted.
URL:https://bklosangeles.org/event/no-hindi-online-raja-yoga-meditation-course-in-april-2023/
LOCATION:General Zoom Room
CATEGORIES:Los Angeles,Raja Yoga Meditation
ORGANIZER;CN="BK Los Angeles Team":MAILTO:losangeles@us.brahmakumaris.org
END:VEVENT
BEGIN:VEVENT
DTSTART;TZID=America/Los_Angeles:20230403T194500
DTEND;TZID=America/Los_Angeles:20230403T210000
DTSTAMP:20260423T125904
CREATED:20230323T174921Z
LAST-MODIFIED:20230323T182237Z
UID:7356-1680551100-1680555600@bklosangeles.org
SUMMARY:Tamil தமிழ் ஆன்லைன் ராஜயோக தியானம் - ஏப்ரல் April 2023
DESCRIPTION:Nourish Your Body and Soul with YogaIn-Person Weekend Yoga WorkshopFree of ChargeAll are Welcome					\n						\n				\n						\n					\n		\n								\n					\n		\n				\n						\n							\n					\n			\n							\n						\n				\n								\n																										\n						\n				\n						\n					\n		\n								\n					\n		\n				\n						\n							\n					\n			\n							\n						\n				\n								\n				Join us for a rejuvenating yoga session designed to align your body and soul. Connect with your breath\, release tension\, and flow with intention.Please bring your yoga mat\, water bottle and towel.Saturday\, May 16\, 20269:00 – 10:00 AMBrahma Kumaris Meditation Place9393 Activity Road\, Suite F/GSan Diego\, CA 92126 Please RSVP as Limited space is Available. All events are offered in the spirit of service by the Brahma Kumaris\, a nonprofit organization. Donations are gratefully accepted.
URL:https://bklosangeles.org/event/tamil-april-2023/
LOCATION:General Zoom Room
CATEGORIES:Los Angeles,Raja Yoga Meditation
ORGANIZER;CN="BK Los Angeles Team":MAILTO:losangeles@us.brahmakumaris.org
END:VEVENT
BEGIN:VEVENT
DTSTART;TZID=America/Los_Angeles:20230404T190000
DTEND;TZID=America/Los_Angeles:20230404T202000
DTSTAMP:20260423T125904
CREATED:20230323T180649Z
LAST-MODIFIED:20230323T181341Z
UID:7377-1680634800-1680639600@bklosangeles.org
SUMMARY:Meditación Raja Yoga Online en Español - Abril 2023
DESCRIPTION:Nourish Your Body and Soul with YogaIn-Person Weekend Yoga WorkshopFree of ChargeAll are Welcome					\n						\n				\n						\n					\n		\n								\n					\n		\n				\n						\n							\n					\n			\n							\n						\n				\n								\n																										\n						\n				\n						\n					\n		\n								\n					\n		\n				\n						\n							\n					\n			\n							\n						\n				\n								\n				Join us for a rejuvenating yoga session designed to align your body and soul. Connect with your breath\, release tension\, and flow with intention.Please bring your yoga mat\, water bottle and towel.Saturday\, May 16\, 20269:00 – 10:00 AMBrahma Kumaris Meditation Place9393 Activity Road\, Suite F/GSan Diego\, CA 92126 Please RSVP as Limited space is Available. All events are offered in the spirit of service by the Brahma Kumaris\, a nonprofit organization. Donations are gratefully accepted.
URL:https://bklosangeles.org/event/meditacion-raja-yoga-online-en-espanol-abril-2023/
LOCATION:General Zoom Room
CATEGORIES:Los Angeles,Raja Yoga Meditation
ORGANIZER;CN="BK Los Angeles Team":MAILTO:losangeles@us.brahmakumaris.org
END:VEVENT
BEGIN:VEVENT
DTSTART;TZID=America/Los_Angeles:20230405T194500
DTEND;TZID=America/Los_Angeles:20230405T210000
DTSTAMP:20260423T125904
CREATED:20230323T052652Z
LAST-MODIFIED:20230323T052838Z
UID:7310-1680723900-1680728400@bklosangeles.org
SUMMARY:English Online Raja Yoga Meditation - April 2023
DESCRIPTION:Nourish Your Body and Soul with YogaIn-Person Weekend Yoga WorkshopFree of ChargeAll are Welcome					\n						\n				\n						\n					\n		\n								\n					\n		\n				\n						\n							\n					\n			\n							\n						\n				\n								\n																										\n						\n				\n						\n					\n		\n								\n					\n		\n				\n						\n							\n					\n			\n							\n						\n				\n								\n				Join us for a rejuvenating yoga session designed to align your body and soul. Connect with your breath\, release tension\, and flow with intention.Please bring your yoga mat\, water bottle and towel.Saturday\, May 16\, 20269:00 – 10:00 AMBrahma Kumaris Meditation Place9393 Activity Road\, Suite F/GSan Diego\, CA 92126 Please RSVP as Limited space is Available. All events are offered in the spirit of service by the Brahma Kumaris\, a nonprofit organization. Donations are gratefully accepted.
URL:https://bklosangeles.org/event/english-online-raja-yoga-meditation-april-2023/
LOCATION:General Zoom Room
CATEGORIES:Los Angeles,Raja Yoga Meditation
ORGANIZER;CN="BK Los Angeles Team":MAILTO:losangeles@us.brahmakumaris.org
END:VEVENT
END:VCALENDAR