BEGIN:VCALENDAR
VERSION:2.0
PRODID:-//Brahma Kumaris - Los Angeles - ECPv6.15.20//NONSGML v1.0//EN
CALSCALE:GREGORIAN
METHOD:PUBLISH
X-ORIGINAL-URL:https://bklosangeles.org
X-WR-CALDESC:Events for Brahma Kumaris - Los Angeles
REFRESH-INTERVAL;VALUE=DURATION:PT1H
X-Robots-Tag:noindex
X-PUBLISHED-TTL:PT1H
BEGIN:VTIMEZONE
TZID:America/Los_Angeles
BEGIN:DAYLIGHT
TZOFFSETFROM:-0800
TZOFFSETTO:-0700
TZNAME:PDT
DTSTART:20240310T100000
END:DAYLIGHT
BEGIN:STANDARD
TZOFFSETFROM:-0700
TZOFFSETTO:-0800
TZNAME:PST
DTSTART:20241103T090000
END:STANDARD
BEGIN:DAYLIGHT
TZOFFSETFROM:-0800
TZOFFSETTO:-0700
TZNAME:PDT
DTSTART:20250309T100000
END:DAYLIGHT
BEGIN:STANDARD
TZOFFSETFROM:-0700
TZOFFSETTO:-0800
TZNAME:PST
DTSTART:20251102T090000
END:STANDARD
BEGIN:DAYLIGHT
TZOFFSETFROM:-0800
TZOFFSETTO:-0700
TZNAME:PDT
DTSTART:20260308T100000
END:DAYLIGHT
BEGIN:STANDARD
TZOFFSETFROM:-0700
TZOFFSETTO:-0800
TZNAME:PST
DTSTART:20261101T090000
END:STANDARD
END:VTIMEZONE
BEGIN:VEVENT
DTSTART;TZID=America/Los_Angeles:20250908T190000
DTEND;TZID=America/Los_Angeles:20250908T210000
DTSTAMP:20260425T040214
CREATED:20250706T061325Z
LAST-MODIFIED:20250706T062419Z
UID:9716-1757358000-1757365200@bklosangeles.org
SUMMARY:Online - Meditación Raja Yoga Online en Español - Septiembre September 2025
DESCRIPTION:In-Person Open HouseFree of ChargeAll are Welcome What to expect:* Games for all ages* Guided meditation* Peaceful atmosphere* Light refreshmentsCome as you are.  Leave refreshed and empowered. Sunday\, May 31\, 202610:00 AM – 12:00 PMBrahma Kumaris Meditation Place9393 Activity Road\, Suite F/GSan Diego\, CA 92126 Please RSVP. All events are offered in the spirit of service by the Brahma Kumaris\, a nonprofit organization. Donations are gratefully accepted.
URL:https://bklosangeles.org/event/online-spanish-september-2025/
LOCATION:San Diego – On-Zoom
CATEGORIES:Cerritos,Los Angeles,Raja Yoga Meditation,San Diego
ORGANIZER;CN="BK SD Team":MAILTO:bklasandiego@gmail.com
END:VEVENT
BEGIN:VEVENT
DTSTART;TZID=America/Los_Angeles:20250908T194500
DTEND;TZID=America/Los_Angeles:20250908T210000
DTSTAMP:20260425T040215
CREATED:20250706T045223Z
LAST-MODIFIED:20250706T045616Z
UID:9698-1757360700-1757365200@bklosangeles.org
SUMMARY:Online: Hindi हिन्दी ऑनलाइन राजयोग ध्यान - सितम्बर September 2025
DESCRIPTION:In-Person Open HouseFree of ChargeAll are Welcome What to expect:* Games for all ages* Guided meditation* Peaceful atmosphere* Light refreshmentsCome as you are.  Leave refreshed and empowered. Sunday\, May 31\, 202610:00 AM – 12:00 PMBrahma Kumaris Meditation Place9393 Activity Road\, Suite F/GSan Diego\, CA 92126 Please RSVP. All events are offered in the spirit of service by the Brahma Kumaris\, a nonprofit organization. Donations are gratefully accepted.
URL:https://bklosangeles.org/event/online-hindi-sept-2025/
LOCATION:General Zoom Room
CATEGORIES:Cerritos,Los Angeles,Raja Yoga Meditation,San Diego
ORGANIZER;CN="BK Los Angeles Team":MAILTO:losangeles@us.brahmakumaris.org
END:VEVENT
BEGIN:VEVENT
DTSTART;TZID=America/Los_Angeles:20250908T194500
DTEND;TZID=America/Los_Angeles:20250908T210000
DTSTAMP:20260425T040215
CREATED:20250706T051306Z
LAST-MODIFIED:20250706T051646Z
UID:9703-1757360700-1757365200@bklosangeles.org
SUMMARY:Online: Tamil தமிழ் ஆன்லைன் ராஜயோக தியானம் - செப்டம்பர் September 2025
DESCRIPTION:In-Person Open HouseFree of ChargeAll are Welcome What to expect:* Games for all ages* Guided meditation* Peaceful atmosphere* Light refreshmentsCome as you are.  Leave refreshed and empowered. Sunday\, May 31\, 202610:00 AM – 12:00 PMBrahma Kumaris Meditation Place9393 Activity Road\, Suite F/GSan Diego\, CA 92126 Please RSVP. All events are offered in the spirit of service by the Brahma Kumaris\, a nonprofit organization. Donations are gratefully accepted.
URL:https://bklosangeles.org/event/online-tamil-sept-2025/
LOCATION:General Zoom Room
CATEGORIES:Cerritos,Los Angeles,Raja Yoga Meditation,San Diego
ORGANIZER;CN="BK Los Angeles Team":MAILTO:losangeles@us.brahmakumaris.org
END:VEVENT
BEGIN:VEVENT
DTSTART;TZID=America/Los_Angeles:20250913T140000
DTEND;TZID=America/Los_Angeles:20250913T160000
DTSTAMP:20260425T040215
CREATED:20250816T142708Z
LAST-MODIFIED:20250816T193240Z
UID:9856-1757772000-1757779200@bklosangeles.org
SUMMARY:In-Person: English Raja Yoga Meditation in San Diego - September 2025
DESCRIPTION:In-Person Open HouseFree of ChargeAll are Welcome What to expect:* Games for all ages* Guided meditation* Peaceful atmosphere* Light refreshmentsCome as you are.  Leave refreshed and empowered. Sunday\, May 31\, 202610:00 AM – 12:00 PMBrahma Kumaris Meditation Place9393 Activity Road\, Suite F/GSan Diego\, CA 92126 Please RSVP. All events are offered in the spirit of service by the Brahma Kumaris\, a nonprofit organization. Donations are gratefully accepted.
URL:https://bklosangeles.org/event/in-person-english-raja-yoga-meditation-in-san-diego-september-2025/
LOCATION:San Diego – In-Person
CATEGORIES:San Diego
ORGANIZER;CN="BK SD Team":MAILTO:bklasandiego@gmail.com
END:VEVENT
END:VCALENDAR