BEGIN:VCALENDAR
VERSION:2.0
PRODID:-//Brahma Kumaris - Los Angeles - ECPv6.15.20//NONSGML v1.0//EN
CALSCALE:GREGORIAN
METHOD:PUBLISH
X-WR-CALNAME:Brahma Kumaris - Los Angeles
X-ORIGINAL-URL:https://bklosangeles.org
X-WR-CALDESC:Events for Brahma Kumaris - Los Angeles
REFRESH-INTERVAL;VALUE=DURATION:PT1H
X-Robots-Tag:noindex
X-PUBLISHED-TTL:PT1H
BEGIN:VTIMEZONE
TZID:America/Los_Angeles
BEGIN:DAYLIGHT
TZOFFSETFROM:-0800
TZOFFSETTO:-0700
TZNAME:PDT
DTSTART:20240310T100000
END:DAYLIGHT
BEGIN:STANDARD
TZOFFSETFROM:-0700
TZOFFSETTO:-0800
TZNAME:PST
DTSTART:20241103T090000
END:STANDARD
BEGIN:DAYLIGHT
TZOFFSETFROM:-0800
TZOFFSETTO:-0700
TZNAME:PDT
DTSTART:20250309T100000
END:DAYLIGHT
BEGIN:STANDARD
TZOFFSETFROM:-0700
TZOFFSETTO:-0800
TZNAME:PST
DTSTART:20251102T090000
END:STANDARD
BEGIN:DAYLIGHT
TZOFFSETFROM:-0800
TZOFFSETTO:-0700
TZNAME:PDT
DTSTART:20260308T100000
END:DAYLIGHT
BEGIN:STANDARD
TZOFFSETFROM:-0700
TZOFFSETTO:-0800
TZNAME:PST
DTSTART:20261101T090000
END:STANDARD
END:VTIMEZONE
BEGIN:VEVENT
DTSTART;TZID=America/Los_Angeles:20251103T190000
DTEND;TZID=America/Los_Angeles:20251103T210000
DTSTAMP:20260424T000709
CREATED:20250708T054932Z
LAST-MODIFIED:20251024T155403Z
UID:9767-1762196400-1762203600@bklosangeles.org
SUMMARY:Online - Meditación Raja Yoga Online en Español - Noviembre November 2025
DESCRIPTION:In-Person Open HouseFree of ChargeAll are Welcome What to expect:* Games for all ages* Guided meditation* Peaceful atmosphere* Light refreshmentsCome as you are.  Leave refreshed and empowered. Sunday\, May 31\, 202610:00 AM – 12:00 PMBrahma Kumaris Meditation Place9393 Activity Road\, Suite F/GSan Diego\, CA 92126 Please RSVP. All events are offered in the spirit of service by the Brahma Kumaris\, a nonprofit organization. Donations are gratefully accepted.
URL:https://bklosangeles.org/event/online-meditacion-ry-nov-2025/
LOCATION:San Diego – On-Zoom
CATEGORIES:Cerritos,Los Angeles,Phoenix, AZ,Raja Yoga Meditation,San Diego
ORGANIZER;CN="BK SD Team":MAILTO:bklasandiego@gmail.com
END:VEVENT
BEGIN:VEVENT
DTSTART;TZID=America/Los_Angeles:20251103T194500
DTEND;TZID=America/Los_Angeles:20251103T210000
DTSTAMP:20260424T000709
CREATED:20250707T222643Z
LAST-MODIFIED:20251024T182718Z
UID:9730-1762199100-1762203600@bklosangeles.org
SUMMARY:Online: Tamil தமிழ் ஆன்லைன் ராஜயோக தியானம் - நவம்பர் November 2025
DESCRIPTION:In-Person Open HouseFree of ChargeAll are Welcome What to expect:* Games for all ages* Guided meditation* Peaceful atmosphere* Light refreshmentsCome as you are.  Leave refreshed and empowered. Sunday\, May 31\, 202610:00 AM – 12:00 PMBrahma Kumaris Meditation Place9393 Activity Road\, Suite F/GSan Diego\, CA 92126 Please RSVP. All events are offered in the spirit of service by the Brahma Kumaris\, a nonprofit organization. Donations are gratefully accepted.
URL:https://bklosangeles.org/event/online-tamil-ry-november-2025/
LOCATION:General Zoom Room
CATEGORIES:Cerritos,Los Angeles,Raja Yoga Meditation,San Diego
ORGANIZER;CN="BK Los Angeles Team":MAILTO:losangeles@us.brahmakumaris.org
END:VEVENT
BEGIN:VEVENT
DTSTART;TZID=America/Los_Angeles:20251103T194500
DTEND;TZID=America/Los_Angeles:20251103T210000
DTSTAMP:20260424T000709
CREATED:20250708T045410Z
LAST-MODIFIED:20250708T045650Z
UID:9746-1762199100-1762203600@bklosangeles.org
SUMMARY:Online: Hindi हिन्दी ऑनलाइन राजयोग ध्यान - नवंबर November 2025
DESCRIPTION:In-Person Open HouseFree of ChargeAll are Welcome What to expect:* Games for all ages* Guided meditation* Peaceful atmosphere* Light refreshmentsCome as you are.  Leave refreshed and empowered. Sunday\, May 31\, 202610:00 AM – 12:00 PMBrahma Kumaris Meditation Place9393 Activity Road\, Suite F/GSan Diego\, CA 92126 Please RSVP. All events are offered in the spirit of service by the Brahma Kumaris\, a nonprofit organization. Donations are gratefully accepted.
URL:https://bklosangeles.org/event/online-hindi-ry-november-2025/
LOCATION:General Zoom Room
CATEGORIES:Cerritos,Los Angeles,Raja Yoga Meditation,San Diego
ORGANIZER;CN="BK Los Angeles Team":MAILTO:losangeles@us.brahmakumaris.org
END:VEVENT
BEGIN:VEVENT
DTSTART;VALUE=DATE:20251104
DTEND;VALUE=DATE:20251105
DTSTAMP:20260424T000709
CREATED:20251025T020032Z
LAST-MODIFIED:20251025T020526Z
UID:10024-1762214400-1762300799@bklosangeles.org
SUMMARY:In-Person: Singing Bowl Meditation\, Every Tuesday at 7:00 PM
DESCRIPTION:In-Person Open HouseFree of ChargeAll are Welcome What to expect:* Games for all ages* Guided meditation* Peaceful atmosphere* Light refreshmentsCome as you are.  Leave refreshed and empowered. Sunday\, May 31\, 202610:00 AM – 12:00 PMBrahma Kumaris Meditation Place9393 Activity Road\, Suite F/GSan Diego\, CA 92126 Please RSVP. All events are offered in the spirit of service by the Brahma Kumaris\, a nonprofit organization. Donations are gratefully accepted.
URL:https://bklosangeles.org/event/ip-singing-bowl-weekly-2025/
LOCATION:San Diego – In-Person
CATEGORIES:San Diego
ORGANIZER;CN="BK SD Team":MAILTO:bklasandiego@gmail.com
END:VEVENT
BEGIN:VEVENT
DTSTART;TZID=America/Los_Angeles:20251109T143000
DTEND;TZID=America/Los_Angeles:20251109T160000
DTSTAMP:20260424T000709
CREATED:20251016T230404Z
LAST-MODIFIED:20251016T230612Z
UID:9982-1762698600-1762704000@bklosangeles.org
SUMMARY:Online:  Centered in the Storm - November 2025
DESCRIPTION:In-Person Open HouseFree of ChargeAll are Welcome What to expect:* Games for all ages* Guided meditation* Peaceful atmosphere* Light refreshmentsCome as you are.  Leave refreshed and empowered. Sunday\, May 31\, 202610:00 AM – 12:00 PMBrahma Kumaris Meditation Place9393 Activity Road\, Suite F/GSan Diego\, CA 92126 Please RSVP. All events are offered in the spirit of service by the Brahma Kumaris\, a nonprofit organization. Donations are gratefully accepted.
URL:https://bklosangeles.org/event/online-centered-november-2025/
LOCATION:General Zoom Room
CATEGORIES:Cerritos,Los Angeles,Phoenix, AZ,San Diego,Zoom Room
ORGANIZER;CN="BK Los Angeles Team":MAILTO:losangeles@us.brahmakumaris.org
END:VEVENT
END:VCALENDAR